FILENAME: O4811106.NWS.958428.tif
QUADRANGLE_NAME: WHITLASH
QUADRANT: NW
WEST_LONGITUDE: -111 22 30.00000
EAST_LONGITUDE: -111 18 45.00000
NORTH_LATITUDE: 49 0 0.00000
SOUTH_LATITUDE: 48 56 15.00000
PRODUCTION_DATE: 1999 1 21
RASTER_ORDER: LEFT_RIGHT/TOP_BOTTOM
BAND_ORGANIZATION: SINGLE FILE
BAND_CONTENT: BLACK&WHITE
BAND_CONTENT: UNDEFINED
BAND_CONTENT: UNDEFINED
BITS_PER_PIXEL: 8
SAMPLES_AND_LINES: 5268 7573
HORIZONTAL_DATUM: NAD83
HORIZONTAL_COORDINATE_SYSTEM: UTM
COORDINATE_ZONE: 12
HORIZONTAL_UNITS: METERS
HORIZONTAL_RESOLUTION: 1.00000
SECONDARY_HORIZONTAL_DATUM: NAD27
XY_ORIGIN: 472177.00000 5427826.00000
SECONDARY_XY_ORIGIN: 472235.17200 5427605.29100
NATION: US
NATION: CA
STATE: MT
NW_QUAD_CORNER_XY: 472571.58000 5427523.52400
NE_QUAD_CORNER_XY: 477142.97700 5427502.82500
SE_QUAD_CORNERY_XY: 477114.39100 5420555.04800
SW_QUAD_CORNER_XY: 472537.27700 5420575.75400
SECONDARY_NW_QUAD_XY: 472570.69900 5427304.51600
SECONDARY_NE_QUAD_XY: 477142.24200 5427283.81600
SECONDARY_SE_QUAD_XY: 477113.65700 5420336.04100
SECONDARY_SW_QUAD_XY: 472536.39600 5420356.74800
RMSE_XY: 3.00000
IMAGE_SOURCE: BLACK AND WHITE FILM
SOURCE_IMAGE_ID: NAPP 9175 096
SOURCE_IMAGE_DATE: 1997 8 30
SOURCE_DEM_DATE: 1999 1 21
AGENCY: WESTERN MAPPING CENTER (WMC)
PRODUCER: ROCKY MOUNTAIN MAPPING CENTER (RMMC)
PRODUCTION_SYSTEM: DV2.6.3 10/9OV2.4 5/95
COMPRESSION: UNDEFINED
STANDARD_VERSION: 1996 12
METADATA_DATE: 1999 1 22
DATA_FILE_SIZE: 39899832
BYTE_COUNT: 5268
