FILENAME: O4811107.SES.1115457.tif
QUADRANGLE_NAME: HAWLEY HILL
QUADRANT: SE
WEST_LONGITUDE: -111 11 15.00000
EAST_LONGITUDE: -111 7 30.00000
NORTH_LATITUDE: 48 56 15.00000
SOUTH_LATITUDE: 48 52 30.00000
PRODUCTION_DATE: 2000 10 17
RASTER_ORDER: LEFT_RIGHT/TOP_BOTTOM
BAND_ORGANIZATION: SINGLE FILE
BAND_CONTENT: BLACK&WHITE
BAND_CONTENT: UNDEFINED
BAND_CONTENT: UNDEFINED
BITS_PER_PIXEL: 8
SAMPLES_AND_LINES: 5256 7561
HORIZONTAL_DATUM: NAD83
HORIZONTAL_COORDINATE_SYSTEM: UTM
COORDINATE_ZONE: 12
HORIZONTAL_UNITS: METERS
HORIZONTAL_RESOLUTION: 1.00000
SECONDARY_HORIZONTAL_DATUM: NAD27
XY_ORIGIN: 485891.00000 5420826.00000
SECONDARY_XY_ORIGIN: 485949.46700 5420606.02000
NATION: US
NATION: "SCIENCE
STATE: MT
NW_QUAD_CORNER_XY: 486268.62900 5420524.93100
NE_QUAD_CORNER_XY: 490845.75100 5420515.51900
SE_QUAD_CORNERY_XY: 490834.32800 5413567.80700
SW_QUAD_CORNER_XY: 486251.49400 5413577.22100
SECONDARY_NW_QUAD_XY: 486268.18800 5420305.92300
SECONDARY_NE_QUAD_XY: 490845.45800 5420296.51100
SECONDARY_SE_QUAD_XY: 490834.03400 5413348.80100
SECONDARY_SW_QUAD_XY: 486251.05300 5413358.21600
RMSE_XY: 0.90000
IMAGE_SOURCE: BLACK AND WHITE FILM
SOURCE_IMAGE_ID: NAPP 11015 010
SOURCE_IMAGE_DATE: 1998 08 13
SOURCE_IMAGE_ID: NAPP 11015 009
SOURCE_IMAGE_DATE: 1998 08 13
SOURCE_DEM_DATE: 1961 00 00
AGENCY: WESTERN MAPPING CENTER (WMC)
PRODUCER: UNDEFINED
PRODUCTION_SYSTEM: GIS/MAGIC
COMPRESSION: UNDEFINED
STANDARD_VERSION: 1996 12
METADATA_DATE: 2000 11 29
DATA_FILE_SIZE: 39745872
BYTE_COUNT: 5256
