FILENAME: O4811108.NES.1115467.tif
QUADRANGLE_NAME: BINGHAM LAKE
QUADRANT: NE
WEST_LONGITUDE: -111 3 45.00000
EAST_LONGITUDE: -111 0 0.00000
NORTH_LATITUDE: 49 0 0.00000
SOUTH_LATITUDE: 48 56 15.00000
PRODUCTION_DATE: 2000 11 6
RASTER_ORDER: LEFT_RIGHT/TOP_BOTTOM
BAND_ORGANIZATION: SINGLE FILE
BAND_CONTENT: BLACK&WHITE
BAND_CONTENT: UNDEFINED
BAND_CONTENT: UNDEFINED
BITS_PER_PIXEL: 8
SAMPLES_AND_LINES: 5238 7554
HORIZONTAL_DATUM: NAD83
HORIZONTAL_COORDINATE_SYSTEM: UTM
COORDINATE_ZONE: 12
HORIZONTAL_UNITS: METERS
HORIZONTAL_RESOLUTION: 1.00000
SECONDARY_HORIZONTAL_DATUM: NAD27
XY_ORIGIN: 495063.00000 5427759.00000
SECONDARY_XY_ORIGIN: 495121.07100 5427538.66600
NATION: US
NATION: CA
NATION: "SCIENCE
STATE: MT
NW_QUAD_CORNER_XY: 495428.59200 5427457.66200
NE_QUAD_CORNER_XY: 500000.00000 5427455.78100
SE_QUAD_CORNERY_XY: 500000.00000 5420507.99000
SW_QUAD_CORNER_XY: 495422.87500 5420509.87200
SECONDARY_NW_QUAD_XY: 495428.44600 5427238.65200
SECONDARY_NE_QUAD_XY: 500000.00000 5427236.77000
SECONDARY_SE_QUAD_XY: 500000.00000 5420288.98200
SECONDARY_SW_QUAD_XY: 495422.72800 5420290.86400
RMSE_XY: 1.10000
IMAGE_SOURCE: BLACK AND WHITE FILM
SOURCE_IMAGE_ID: NAPP 9169 101
SOURCE_IMAGE_DATE: 1997 07 25
SOURCE_IMAGE_ID: NAPP 9175 027
SOURCE_IMAGE_DATE: 1997 08 30
SOURCE_DEM_DATE: 1961 00 00
AGENCY: WESTERN MAPPING CENTER (WMC)
PRODUCER: UNDEFINED
PRODUCTION_SYSTEM: GIS/MAGIC
COMPRESSION: UNDEFINED
STANDARD_VERSION: 1996 12
METADATA_DATE: 2000 11 29
DATA_FILE_SIZE: 39573090
BYTE_COUNT: 5238
