FILENAME: O4811109.NWS.45906.tif
QUADRANGLE_NAME: KEVIN NORTH
QUADRANT: NW
WEST_LONGITUDE: -112 0 0.00000
EAST_LONGITUDE: -111 56 15.00000
NORTH_LATITUDE: 48 52 30.00000
SOUTH_LATITUDE: 48 48 45.00000
PRODUCTION_DATE: 1995 6 28
RASTER_ORDER: LEFT_RIGHT/TOP_BOTTOM
BAND_ORGANIZATION: SINGLE FILE
BAND_CONTENT: BLACK&WHITE
BAND_CONTENT: UNDEFINED
BAND_CONTENT: UNDEFINED
BITS_PER_PIXEL: 8
SAMPLES_AND_LINES: 5284 7616
HORIZONTAL_DATUM: NAD83
HORIZONTAL_COORDINATE_SYSTEM: UTM
COORDINATE_ZONE: 12
HORIZONTAL_UNITS: METERS
HORIZONTAL_RESOLUTION: 1.00000
SECONDARY_HORIZONTAL_DATUM: NAD27
XY_ORIGIN: 426279.50000 5414346.50000
SECONDARY_XY_ORIGIN: 426341.43300 5414127.39500
NATION: US
STATE: MT
NW_QUAD_CORNER_XY: 426675.11300 5414042.30500
NE_QUAD_CORNER_XY: 431257.86200 5413983.93300
SE_QUAD_CORNERY_XY: 431172.26300 5407036.41700
SW_QUAD_CORNER_XY: 426583.80700 5407094.80700
SECONDARY_NW_QUAD_XY: 426672.76400 5413823.31500
SECONDARY_NE_QUAD_XY: 431255.65900 5413764.94000
SECONDARY_SE_QUAD_XY: 431170.06100 5406817.42800
SECONDARY_SW_QUAD_XY: 426581.45800 5406875.81900
RMSE_XY: 2.10000
IMAGE_SOURCE: BLACK AND WHITE FILM
SOURCE_IMAGE_ID: NAPP 3890 032
SOURCE_IMAGE_DATE: 1991 7 20
SOURCE_DEM_DATE: 1995 6 28
AGENCY: WESTERN MAPPING CENTER (WMC)
PRODUCER: Woolpert Consultants
PRODUCTION_SYSTEM: INTERGRAPH ISPM,ISIR
COMPRESSION: UNDEFINED
STANDARD_VERSION: 1996 12
METADATA_DATE: 1997 6 15
DATA_FILE_SIZE: 40248228
BYTE_COUNT: 5284
