FILENAME: O4811109.NES.45905.tif
QUADRANGLE_NAME: KEVIN NORTH
QUADRANT: NE
WEST_LONGITUDE: -111 56 15.00000
EAST_LONGITUDE: -111 52 30.00000
NORTH_LATITUDE: 48 52 30.00000
SOUTH_LATITUDE: 48 48 45.00000
PRODUCTION_DATE: 1995 6 28
RASTER_ORDER: LEFT_RIGHT/TOP_BOTTOM
BAND_ORGANIZATION: SINGLE FILE
BAND_CONTENT: BLACK&WHITE
BAND_CONTENT: UNDEFINED
BAND_CONTENT: UNDEFINED
BITS_PER_PIXEL: 8
SAMPLES_AND_LINES: 5280 7612
HORIZONTAL_DATUM: NAD83
HORIZONTAL_COORDINATE_SYSTEM: UTM
COORDINATE_ZONE: 12
HORIZONTAL_UNITS: METERS
HORIZONTAL_RESOLUTION: 1.00000
SECONDARY_HORIZONTAL_DATUM: NAD27
XY_ORIGIN: 430867.50000 5414288.50000
SECONDARY_XY_ORIGIN: 430929.19700 5414069.15700
NATION: US
STATE: MT
NW_QUAD_CORNER_XY: 431257.86200 5413983.93300
NE_QUAD_CORNER_XY: 435840.62200 5413929.32600
SE_QUAD_CORNERY_XY: 435760.73100 5406981.79400
SW_QUAD_CORNER_XY: 431172.26300 5407036.41700
SECONDARY_NW_QUAD_XY: 431255.65900 5413764.94000
SECONDARY_NE_QUAD_XY: 435838.56600 5413710.33200
SECONDARY_SE_QUAD_XY: 435758.67500 5406762.80400
SECONDARY_SW_QUAD_XY: 431170.06100 5406817.42800
RMSE_XY: 1.60000
IMAGE_SOURCE: BLACK AND WHITE FILM
SOURCE_IMAGE_ID: NAPP 3890 045
SOURCE_IMAGE_DATE: 1991 7 20
SOURCE_DEM_DATE: 1995 6 28
AGENCY: WESTERN MAPPING CENTER (WMC)
PRODUCER: Woolpert Consultants
PRODUCTION_SYSTEM: INTERGRAPH ISPM,ISIR
COMPRESSION: UNDEFINED
STANDARD_VERSION: 1996 12
METADATA_DATE: 1997 6 15
DATA_FILE_SIZE: 40196640
BYTE_COUNT: 5280
