FILENAME: O4811110.SWS.45747.tif
QUADRANGLE_NAME: FERDIG
QUADRANT: SW
WEST_LONGITUDE: -111 52 30.00000
EAST_LONGITUDE: -111 48 45.00000
NORTH_LATITUDE: 48 48 45.00000
SOUTH_LATITUDE: 48 45 0.00000
PRODUCTION_DATE: 1995 6 28
RASTER_ORDER: LEFT_RIGHT/TOP_BOTTOM
BAND_ORGANIZATION: SINGLE FILE
BAND_CONTENT: BLACK&WHITE
BAND_CONTENT: UNDEFINED
BAND_CONTENT: UNDEFINED
BITS_PER_PIXEL: 8
SAMPLES_AND_LINES: 5278 7610
HORIZONTAL_DATUM: NAD83
HORIZONTAL_COORDINATE_SYSTEM: UTM
COORDINATE_ZONE: 12
HORIZONTAL_UNITS: METERS
HORIZONTAL_RESOLUTION: 1.00000
SECONDARY_HORIZONTAL_DATUM: NAD27
XY_ORIGIN: 435376.50000 5407286.50000
SECONDARY_XY_ORIGIN: 435438.11200 5407067.10400
NATION: US
STATE: MT
NW_QUAD_CORNER_XY: 435760.73100 5406981.79400
NE_QUAD_CORNER_XY: 440349.20800 5406930.94000
SE_QUAD_CORNERY_XY: 440275.09600 5399983.46700
SW_QUAD_CORNER_XY: 435680.91700 5400034.33700
SECONDARY_NW_QUAD_XY: 435758.67500 5406762.80400
SECONDARY_NE_QUAD_XY: 440347.29900 5406711.94700
SECONDARY_SE_QUAD_XY: 440273.18700 5399764.47900
SECONDARY_SW_QUAD_XY: 435678.86100 5399815.35000
RMSE_XY: 1.50000
IMAGE_SOURCE: BLACK AND WHITE FILM
SOURCE_IMAGE_ID: NAPP 3894 011
SOURCE_IMAGE_DATE: 1992 7 30
SOURCE_DEM_DATE: 1995 6 28
AGENCY: WESTERN MAPPING CENTER (WMC)
PRODUCER: Woolpert Consultants
PRODUCTION_SYSTEM: INTERGRAPH ISPM,ISIR
COMPRESSION: UNDEFINED
STANDARD_VERSION: 1996 12
METADATA_DATE: 1997 6 15
DATA_FILE_SIZE: 40170858
BYTE_COUNT: 5278
