FILENAME: O4811114.NES.45230.tif
QUADRANGLE_NAME: GRASSY BUTTE
QUADRANT: NE
WEST_LONGITUDE: -111 18 45.00000
EAST_LONGITUDE: -111 15 0.00000
NORTH_LATITUDE: 48 52 30.00000
SOUTH_LATITUDE: 48 48 45.00000
PRODUCTION_DATE: 1995 6 27
RASTER_ORDER: LEFT_RIGHT/TOP_BOTTOM
BAND_ORGANIZATION: SINGLE FILE
BAND_CONTENT: BLACK&WHITE
BAND_CONTENT: UNDEFINED
BAND_CONTENT: UNDEFINED
BITS_PER_PIXEL: 8
SAMPLES_AND_LINES: 5222 7574
HORIZONTAL_DATUM: NAD83
HORIZONTAL_COORDINATE_SYSTEM: UTM
COORDINATE_ZONE: 12
HORIZONTAL_UNITS: METERS
HORIZONTAL_RESOLUTION: 1.00000
SECONDARY_HORIZONTAL_DATUM: NAD27
XY_ORIGIN: 476752.50000 5413911.50000
SECONDARY_XY_ORIGIN: 476811.45000 5413691.78000
NATION: US
STATE: MT
NW_QUAD_CORNER_XY: 477085.83200 5413607.34700
NE_QUAD_CORNER_XY: 481668.66200 5413590.40100
SE_QUAD_CORNERY_XY: 481645.83700 5406642.77100
SW_QUAD_CORNER_XY: 477057.30200 5406659.72200
SECONDARY_NW_QUAD_XY: 477085.09800 5413388.34300
SECONDARY_NE_QUAD_XY: 481668.07400 5413371.39600
SECONDARY_SE_QUAD_XY: 481645.25000 5406423.76900
SECONDARY_SW_QUAD_XY: 477056.56700 5406440.72100
RMSE_XY: 1.40000
IMAGE_SOURCE: BLACK AND WHITE FILM
SOURCE_IMAGE_ID: NAPP 3887 095
SOURCE_IMAGE_DATE: 1991 7 12
SOURCE_DEM_DATE: 1995 6 27
AGENCY: WESTERN MAPPING CENTER (WMC)
PRODUCER: Woolpert Consultants
PRODUCTION_SYSTEM: INTERGRAPH ISPM,ISIR
COMPRESSION: UNDEFINED
STANDARD_VERSION: 1996 12
METADATA_DATE: 1997 6 15
DATA_FILE_SIZE: 39556650
BYTE_COUNT: 5222
