FILENAME: O4811115.SWS.1115446.tif
QUADRANGLE_NAME: HAYSTACK BUTTE
QUADRANT: SW
WEST_LONGITUDE: -111 15 0.00000
EAST_LONGITUDE: -111 11 15.00000
NORTH_LATITUDE: 48 48 45.00000
SOUTH_LATITUDE: 48 45 0.00000
PRODUCTION_DATE: 2000 10 17
RASTER_ORDER: LEFT_RIGHT/TOP_BOTTOM
BAND_ORGANIZATION: SINGLE FILE
BAND_CONTENT: BLACK&WHITE
BAND_CONTENT: UNDEFINED
BAND_CONTENT: UNDEFINED
BITS_PER_PIXEL: 8
SAMPLES_AND_LINES: 5275 7564
HORIZONTAL_DATUM: NAD83
HORIZONTAL_COORDINATE_SYSTEM: UTM
COORDINATE_ZONE: 12
HORIZONTAL_UNITS: METERS
HORIZONTAL_RESOLUTION: 1.00000
SECONDARY_HORIZONTAL_DATUM: NAD27
XY_ORIGIN: 481261.00000 5406943.00000
SECONDARY_XY_ORIGIN: 481320.28300 5406723.89300
NATION: US
NATION: "SCIENCE
STATE: MT
NW_QUAD_CORNER_XY: 481645.83700 5406642.77100
NE_QUAD_CORNER_XY: 486234.37500 5406629.58700
SE_QUAD_CORNERY_XY: 486217.27300 5399682.02800
SW_QUAD_CORNER_XY: 481623.03400 5399695.21600
SECONDARY_NW_QUAD_XY: 481645.25000 5406423.76900
SECONDARY_NE_QUAD_XY: 486233.93500 5406410.58500
SECONDARY_SE_QUAD_XY: 486216.83300 5399463.03100
SECONDARY_SW_QUAD_XY: 481622.44700 5399476.21900
RMSE_XY: 0.60000
IMAGE_SOURCE: BLACK AND WHITE FILM
SOURCE_IMAGE_ID: NAPP 9170 036
SOURCE_IMAGE_DATE: 1997 08 22
SOURCE_DEM_DATE: 1961 00 00
AGENCY: WESTERN MAPPING CENTER (WMC)
PRODUCER: UNDEFINED
PRODUCTION_SYSTEM: GIS/MAGIC
COMPRESSION: UNDEFINED
STANDARD_VERSION: 1996 12
METADATA_DATE: 2000 11 07
DATA_FILE_SIZE: 39905375
BYTE_COUNT: 5275
