FILENAME: O4811115.SES.1115445.tif
QUADRANGLE_NAME: HAYSTACK BUTTE
QUADRANT: SE
WEST_LONGITUDE: -111 11 15.00000
EAST_LONGITUDE: -111 7 30.00000
NORTH_LATITUDE: 48 48 45.00000
SOUTH_LATITUDE: 48 45 0.00000
PRODUCTION_DATE: 2000 10 17
RASTER_ORDER: LEFT_RIGHT/TOP_BOTTOM
BAND_ORGANIZATION: SINGLE FILE
BAND_CONTENT: BLACK&WHITE
BAND_CONTENT: UNDEFINED
BAND_CONTENT: UNDEFINED
BITS_PER_PIXEL: 8
SAMPLES_AND_LINES: 5268 7560
HORIZONTAL_DATUM: NAD83
HORIZONTAL_COORDINATE_SYSTEM: UTM
COORDINATE_ZONE: 12
HORIZONTAL_UNITS: METERS
HORIZONTAL_RESOLUTION: 1.00000
SECONDARY_HORIZONTAL_DATUM: NAD27
XY_ORIGIN: 485856.00000 5406930.00000
SECONDARY_XY_ORIGIN: 485915.22500 5406710.92600
NATION: US
NATION: "SCIENCE
STATE: MT
NW_QUAD_CORNER_XY: 486234.37500 5406629.58700
NE_QUAD_CORNER_XY: 490822.91600 5406620.17000
SE_QUAD_CORNERY_XY: 490811.51400 5399672.60800
SW_QUAD_CORNER_XY: 486217.27300 5399682.02800
SECONDARY_NW_QUAD_XY: 486233.93500 5406410.58500
SECONDARY_NE_QUAD_XY: 490822.62200 5406401.16700
SECONDARY_SE_QUAD_XY: 490811.22100 5399453.61000
SECONDARY_SW_QUAD_XY: 486216.83300 5399463.03100
RMSE_XY: 0.80000
IMAGE_SOURCE: BLACK AND WHITE FILM
SOURCE_IMAGE_ID: NAPP 11015 006
SOURCE_IMAGE_DATE: 1998 08 13
SOURCE_DEM_DATE: 1961 00 00
AGENCY: WESTERN MAPPING CENTER (WMC)
PRODUCER: UNDEFINED
PRODUCTION_SYSTEM: GIS/MAGIC
COMPRESSION: UNDEFINED
STANDARD_VERSION: 1996 12
METADATA_DATE: 2000 11 07
DATA_FILE_SIZE: 39831348
BYTE_COUNT: 5268
