FILENAME: O4811117.SWS.45912.tif
QUADRANGLE_NAME: KEVIN SOUTH
QUADRANT: SW
WEST_LONGITUDE: -112 0 0.00000
EAST_LONGITUDE: -111 56 15.00000
NORTH_LATITUDE: 48 41 15.00000
SOUTH_LATITUDE: 48 37 30.00000
PRODUCTION_DATE: 1995 6 27
RASTER_ORDER: LEFT_RIGHT/TOP_BOTTOM
BAND_ORGANIZATION: SINGLE FILE
BAND_CONTENT: BLACK&WHITE
BAND_CONTENT: UNDEFINED
BAND_CONTENT: UNDEFINED
BITS_PER_PIXEL: 8
SAMPLES_AND_LINES: 5302 7616
HORIZONTAL_DATUM: NAD83
HORIZONTAL_COORDINATE_SYSTEM: UTM
COORDINATE_ZONE: 12
HORIZONTAL_UNITS: METERS
HORIZONTAL_RESOLUTION: 1.00000
SECONDARY_HORIZONTAL_DATUM: NAD27
XY_ORIGIN: 426005.50000 5393504.50000
SECONDARY_XY_ORIGIN: 426067.30500 5393285.96200
NATION: US
STATE: MT
NW_QUAD_CORNER_XY: 426401.46000 5393200.02900
NE_QUAD_CORNER_XY: 431001.31500 5393141.60600
SE_QUAD_CORNERY_XY: 430915.96500 5386194.31100
SW_QUAD_CORNER_XY: 426310.41900 5386252.75000
SECONDARY_NW_QUAD_XY: 426399.11100 5392981.05100
SECONDARY_NE_QUAD_XY: 430999.11300 5392922.62700
SECONDARY_SE_QUAD_XY: 430913.76300 5385975.33800
SECONDARY_SW_QUAD_XY: 426308.07000 5386033.77900
RMSE_XY: 1.00000
IMAGE_SOURCE: BLACK AND WHITE FILM
SOURCE_IMAGE_ID: NAPP 3890 026
SOURCE_IMAGE_DATE: 1991 7 20
SOURCE_DEM_DATE: 1995 6 27
AGENCY: WESTERN MAPPING CENTER (WMC)
PRODUCER: Woolpert Consultants
PRODUCTION_SYSTEM: INTERGRAPH ISPM,ISIR
COMPRESSION: UNDEFINED
STANDARD_VERSION: 1996 12
METADATA_DATE: 1997 6 15
DATA_FILE_SIZE: 40385334
BYTE_COUNT: 5302
