FILENAME: O4811118.NES.45748.tif
QUADRANGLE_NAME: OILMONT
QUADRANT: NE
WEST_LONGITUDE: -111 48 45.00000
EAST_LONGITUDE: -111 45 0.00000
NORTH_LATITUDE: 48 45 0.00000
SOUTH_LATITUDE: 48 41 15.00000
PRODUCTION_DATE: 1995 6 28
RASTER_ORDER: LEFT_RIGHT/TOP_BOTTOM
BAND_ORGANIZATION: SINGLE FILE
BAND_CONTENT: BLACK&WHITE
BAND_CONTENT: UNDEFINED
BAND_CONTENT: UNDEFINED
BITS_PER_PIXEL: 8
SAMPLES_AND_LINES: 5278 7604
HORIZONTAL_DATUM: NAD83
HORIZONTAL_COORDINATE_SYSTEM: UTM
COORDINATE_ZONE: 12
HORIZONTAL_UNITS: METERS
HORIZONTAL_RESOLUTION: 1.00000
SECONDARY_HORIZONTAL_DATUM: NAD27
XY_ORIGIN: 439896.50000 5400287.50000
SECONDARY_XY_ORIGIN: 439958.19900 5400068.07200
NATION: US
STATE: MT
NW_QUAD_CORNER_XY: 440275.09600 5399983.46700
NE_QUAD_CORNER_XY: 444869.28400 5399936.36600
SE_QUAD_CORNERY_XY: 444800.93900 5392988.95500
SW_QUAD_CORNER_XY: 440201.05500 5393036.06900
SECONDARY_NW_QUAD_XY: 440273.18700 5399764.47900
SECONDARY_NE_QUAD_XY: 444867.52200 5399717.37700
SECONDARY_SE_QUAD_XY: 444799.17700 5392769.97100
SECONDARY_SW_QUAD_XY: 440199.14700 5392817.08600
RMSE_XY: 1.50000
IMAGE_SOURCE: BLACK AND WHITE FILM
SOURCE_IMAGE_ID: NAPP 3890 117
SOURCE_IMAGE_DATE: 1991 7 20
SOURCE_DEM_DATE: 1995 6 28
AGENCY: WESTERN MAPPING CENTER (WMC)
PRODUCER: Woolpert Consultants
PRODUCTION_SYSTEM: INTERGRAPH ISPM,ISIR
COMPRESSION: UNDEFINED
STANDARD_VERSION: 1996 12
METADATA_DATE: 1997 6 15
DATA_FILE_SIZE: 40139190
BYTE_COUNT: 5278
