FILENAME: O4811119.NES.45596.tif
QUADRANGLE_NAME: ANTELOPE COULEE NW
QUADRANT: NE
WEST_LONGITUDE: -111 41 15.00000
EAST_LONGITUDE: -111 37 30.00000
NORTH_LATITUDE: 48 45 0.00000
SOUTH_LATITUDE: 48 41 15.00000
PRODUCTION_DATE: 1995 6 28
RASTER_ORDER: LEFT_RIGHT/TOP_BOTTOM
BAND_ORGANIZATION: SINGLE FILE
BAND_CONTENT: BLACK&WHITE
BAND_CONTENT: UNDEFINED
BAND_CONTENT: UNDEFINED
BITS_PER_PIXEL: 8
SAMPLES_AND_LINES: 5268 7598
HORIZONTAL_DATUM: NAD83
HORIZONTAL_COORDINATE_SYSTEM: UTM
COORDINATE_ZONE: 12
HORIZONTAL_UNITS: METERS
HORIZONTAL_RESOLUTION: 1.00000
SECONDARY_HORIZONTAL_DATUM: NAD27
XY_ORIGIN: 449096.50000 5400197.50000
SECONDARY_XY_ORIGIN: 449157.75500 5399977.89200
NATION: US
STATE: MT
NW_QUAD_CORNER_XY: 449463.48000 5399893.03400
NE_QUAD_CORNER_XY: 454057.68500 5399853.47000
SE_QUAD_CORNERY_XY: 454000.73200 5392906.03500
SW_QUAD_CORNER_XY: 449400.83200 5392945.61000
SECONDARY_NW_QUAD_XY: 449461.86500 5399674.04300
SECONDARY_NE_QUAD_XY: 454056.21700 5399634.47800
SECONDARY_SE_QUAD_XY: 453999.26400 5392687.04800
SECONDARY_SW_QUAD_XY: 449399.21700 5392726.62500
RMSE_XY: 1.40000
IMAGE_SOURCE: BLACK AND WHITE FILM
SOURCE_IMAGE_ID: NAPP 3889 160
SOURCE_IMAGE_DATE: 1991 7 12
SOURCE_DEM_DATE: 1995 6 28
AGENCY: WESTERN MAPPING CENTER (WMC)
PRODUCER: Woolpert Consultants
PRODUCTION_SYSTEM: INTERGRAPH ISPM,ISIR
COMPRESSION: UNDEFINED
STANDARD_VERSION: 1996 12
METADATA_DATE: 1997 6 15
DATA_FILE_SIZE: 40031532
BYTE_COUNT: 5268
