FILENAME: O4811120.SES.45474.tif
QUADRANGLE_NAME: JOHANNSON COULEE
QUADRANT: SE
WEST_LONGITUDE: -111 33 45.00000
EAST_LONGITUDE: -111 30 0.00000
NORTH_LATITUDE: 48 41 15.00000
SOUTH_LATITUDE: 48 37 30.00000
PRODUCTION_DATE: 1995 6 28
RASTER_ORDER: LEFT_RIGHT/TOP_BOTTOM
BAND_ORGANIZATION: SINGLE FILE
BAND_CONTENT: BLACK&WHITE
BAND_CONTENT: UNDEFINED
BAND_CONTENT: UNDEFINED
BITS_PER_PIXEL: 8
SAMPLES_AND_LINES: 5262 7590
HORIZONTAL_DATUM: NAD83
HORIZONTAL_COORDINATE_SYSTEM: UTM
COORDINATE_ZONE: 12
HORIZONTAL_UNITS: METERS
HORIZONTAL_RESOLUTION: 1.00000
SECONDARY_HORIZONTAL_DATUM: NAD27
XY_ORIGIN: 458244.50000 5393174.50000
SECONDARY_XY_ORIGIN: 458305.03100 5392955.42800
NATION: US
STATE: MT
NW_QUAD_CORNER_XY: 458600.63900 5392870.22900
NE_QUAD_CORNER_XY: 463200.55200 5392838.19200
SE_QUAD_CORNERY_XY: 463155.03400 5385890.81400
SW_QUAD_CORNER_XY: 458549.43100 5385922.85900
SECONDARY_NW_QUAD_XY: 458599.31700 5392651.24100
SECONDARY_NE_QUAD_XY: 463199.37700 5392619.20300
SECONDARY_SE_QUAD_XY: 463153.86000 5385671.83100
SECONDARY_SW_QUAD_XY: 458548.11000 5385703.87700
RMSE_XY: 1.60000
IMAGE_SOURCE: BLACK AND WHITE FILM
SOURCE_IMAGE_ID: NAPP 3889 094
SOURCE_IMAGE_DATE: 1991 7 12
SOURCE_DEM_DATE: 1995 6 28
AGENCY: WESTERN MAPPING CENTER (WMC)
PRODUCER: Woolpert Consultants
PRODUCTION_SYSTEM: INTERGRAPH ISPM,ISIR
COMPRESSION: UNDEFINED
STANDARD_VERSION: 1996 12
METADATA_DATE: 1997 6 15
DATA_FILE_SIZE: 39943842
BYTE_COUNT: 5262
