FILENAME: O4811120.NES.45472.tif
QUADRANGLE_NAME: JOHANNSON COULEE
QUADRANT: NE
WEST_LONGITUDE: -111 33 45.00000
EAST_LONGITUDE: -111 30 0.00000
NORTH_LATITUDE: 48 45 0.00000
SOUTH_LATITUDE: 48 41 15.00000
PRODUCTION_DATE: 1995 6 28
RASTER_ORDER: LEFT_RIGHT/TOP_BOTTOM
BAND_ORGANIZATION: SINGLE FILE
BAND_CONTENT: BLACK&WHITE
BAND_CONTENT: UNDEFINED
BAND_CONTENT: UNDEFINED
BITS_PER_PIXEL: 8
SAMPLES_AND_LINES: 5256 7590
HORIZONTAL_DATUM: NAD83
HORIZONTAL_COORDINATE_SYSTEM: UTM
COORDINATE_ZONE: 12
HORIZONTAL_UNITS: METERS
HORIZONTAL_RESOLUTION: 1.00000
SECONDARY_HORIZONTAL_DATUM: NAD27
XY_ORIGIN: 458296.50000 5400122.50000
SECONDARY_XY_ORIGIN: 458356.98200 5399903.05100
NATION: US
STATE: MT
NW_QUAD_CORNER_XY: 458651.89600 5399817.67400
NE_QUAD_CORNER_XY: 463246.11400 5399785.64600
SE_QUAD_CORNERY_XY: 463200.55200 5392838.19200
SW_QUAD_CORNER_XY: 458600.63900 5392870.22900
SECONDARY_NW_QUAD_XY: 458650.57500 5399598.68100
SECONDARY_NE_QUAD_XY: 463244.93900 5399566.65200
SECONDARY_SE_QUAD_XY: 463199.37700 5392619.20300
SECONDARY_SW_QUAD_XY: 458599.31700 5392651.24100
RMSE_XY: 1.40000
IMAGE_SOURCE: BLACK AND WHITE FILM
SOURCE_IMAGE_ID: NAPP 3889 092
SOURCE_IMAGE_DATE: 1991 7 12
SOURCE_DEM_DATE: 1995 6 28
AGENCY: WESTERN MAPPING CENTER (WMC)
PRODUCER: Woolpert Consultants
PRODUCTION_SYSTEM: INTERGRAPH ISPM,ISIR
COMPRESSION: UNDEFINED
STANDARD_VERSION: 1996 12
METADATA_DATE: 1997 6 15
DATA_FILE_SIZE: 39898296
BYTE_COUNT: 5256
