FILENAME: O4811123.NWS.1115448.tif
QUADRANGLE_NAME: BLAIR RANCH
QUADRANT: NW
WEST_LONGITUDE: -111 15 0.00000
EAST_LONGITUDE: -111 11 15.00000
NORTH_LATITUDE: 48 45 0.00000
SOUTH_LATITUDE: 48 41 15.00000
PRODUCTION_DATE: 2000 10 17
RASTER_ORDER: LEFT_RIGHT/TOP_BOTTOM
BAND_ORGANIZATION: SINGLE FILE
BAND_CONTENT: BLACK&WHITE
BAND_CONTENT: UNDEFINED
BAND_CONTENT: UNDEFINED
BITS_PER_PIXEL: 8
SAMPLES_AND_LINES: 5281 7565
HORIZONTAL_DATUM: NAD83
HORIZONTAL_COORDINATE_SYSTEM: UTM
COORDINATE_ZONE: 12
HORIZONTAL_UNITS: METERS
HORIZONTAL_RESOLUTION: 1.00000
SECONDARY_HORIZONTAL_DATUM: NAD27
XY_ORIGIN: 481238.00000 5399996.00000
SECONDARY_XY_ORIGIN: 481297.68900 5399777.36200
NATION: US
NATION: "SCIENCE
STATE: MT
NW_QUAD_CORNER_XY: 481623.03400 5399695.21600
NE_QUAD_CORNER_XY: 486217.27300 5399682.02800
SE_QUAD_CORNERY_XY: 486200.18800 5392734.54500
SW_QUAD_CORNER_XY: 481600.25400 5392747.73600
SECONDARY_NW_QUAD_XY: 481622.44700 5399476.21900
SECONDARY_NE_QUAD_XY: 486216.83300 5399463.03100
SECONDARY_SE_QUAD_XY: 486199.74700 5392515.55300
SECONDARY_SW_QUAD_XY: 481599.66600 5392528.74400
RMSE_XY: 1.40000
IMAGE_SOURCE: BLACK AND WHITE FILM
SOURCE_IMAGE_ID: NAPP 9170 034
SOURCE_IMAGE_DATE: 1997 08 22
SOURCE_DEM_DATE: 1977 00 00
AGENCY: WESTERN MAPPING CENTER (WMC)
PRODUCER: UNDEFINED
PRODUCTION_SYSTEM: GIS/MAGIC
COMPRESSION: UNDEFINED
STANDARD_VERSION: 1996 12
METADATA_DATE: 2000 11 07
DATA_FILE_SIZE: 39956046
BYTE_COUNT: 5281
