FILENAME: O4811124.SWS.1115478.tif
QUADRANGLE_NAME: LAKEY RANCH
QUADRANT: SW
WEST_LONGITUDE: -111 7 30.00000
EAST_LONGITUDE: -111 3 45.00000
NORTH_LATITUDE: 48 41 15.00000
SOUTH_LATITUDE: 48 37 30.00000
PRODUCTION_DATE: 2000 10 18
RASTER_ORDER: LEFT_RIGHT/TOP_BOTTOM
BAND_ORGANIZATION: SINGLE FILE
BAND_CONTENT: BLACK&WHITE
BAND_CONTENT: UNDEFINED
BAND_CONTENT: UNDEFINED
BITS_PER_PIXEL: 8
SAMPLES_AND_LINES: 5275 7557
HORIZONTAL_DATUM: NAD83
HORIZONTAL_COORDINATE_SYSTEM: UTM
COORDINATE_ZONE: 12
HORIZONTAL_UNITS: METERS
HORIZONTAL_RESOLUTION: 1.00000
SECONDARY_HORIZONTAL_DATUM: NAD27
XY_ORIGIN: 490427.00000 5393026.00000
SECONDARY_XY_ORIGIN: 490486.60100 5392807.64200
NATION: US
NATION: "SCIENCE
STATE: MT
NW_QUAD_CORNER_XY: 490800.12400 5392725.12300
NE_QUAD_CORNER_XY: 495400.06200 5392719.46900
SE_QUAD_CORNERY_XY: 495394.37200 5385772.05800
SW_QUAD_CORNER_XY: 490788.74500 5385777.71300
SECONDARY_NW_QUAD_XY: 490799.83000 5392506.13000
SECONDARY_NE_QUAD_XY: 495399.91500 5392500.47600
SECONDARY_SE_QUAD_XY: 495394.22500 5385553.07100
SECONDARY_SW_QUAD_XY: 490788.45100 5385558.72600
RMSE_XY: 1.40000
IMAGE_SOURCE: BLACK AND WHITE FILM
SOURCE_IMAGE_ID: NAPP 9175 021
SOURCE_IMAGE_DATE: 1997 08 30
SOURCE_DEM_DATE: 1961 00 00
AGENCY: WESTERN MAPPING CENTER (WMC)
PRODUCER: UNDEFINED
PRODUCTION_SYSTEM: GIS/MAGIC
COMPRESSION: UNDEFINED
STANDARD_VERSION: 1996 12
METADATA_DATE: 2000 11 29
DATA_FILE_SIZE: 39868450
BYTE_COUNT: 5275
