FILENAME: O4811125.NWS.45914.tif
QUADRANGLE_NAME: VIRDEN
QUADRANT: NW
WEST_LONGITUDE: -112 0 0.00000
EAST_LONGITUDE: -111 56 15.00000
NORTH_LATITUDE: 48 37 30.00000
SOUTH_LATITUDE: 48 33 45.00000
PRODUCTION_DATE: 1995 6 28
RASTER_ORDER: LEFT_RIGHT/TOP_BOTTOM
BAND_ORGANIZATION: SINGLE FILE
BAND_CONTENT: BLACK&WHITE
BAND_CONTENT: UNDEFINED
BAND_CONTENT: UNDEFINED
BITS_PER_PIXEL: 8
SAMPLES_AND_LINES: 5308 7616
HORIZONTAL_DATUM: NAD83
HORIZONTAL_COORDINATE_SYSTEM: UTM
COORDINATE_ZONE: 12
HORIZONTAL_UNITS: METERS
HORIZONTAL_RESOLUTION: 1.00000
SECONDARY_HORIZONTAL_DATUM: NAD27
XY_ORIGIN: 425914.50000 5386557.50000
SECONDARY_XY_ORIGIN: 425976.16900 5386339.15500
NATION: US
STATE: MT
NW_QUAD_CORNER_XY: 426310.41900 5386252.75000
NE_QUAD_CORNER_XY: 430915.96500 5386194.31100
SE_QUAD_CORNERY_XY: 430830.69700 5379247.09000
SW_QUAD_CORNER_XY: 426219.46600 5379305.54500
SECONDARY_NW_QUAD_XY: 426308.07000 5386033.77900
SECONDARY_NE_QUAD_XY: 430913.76300 5385975.33800
SECONDARY_SE_QUAD_XY: 430828.49500 5379028.12400
SECONDARY_SW_QUAD_XY: 426217.11800 5379086.58100
RMSE_XY: 1.50000
IMAGE_SOURCE: BLACK AND WHITE FILM
SOURCE_IMAGE_ID: NAPP 3890 024
SOURCE_IMAGE_DATE: 1991 7 20
SOURCE_DEM_DATE: 1995 6 28
AGENCY: WESTERN MAPPING CENTER (WMC)
PRODUCER: Woolpert Consultants
PRODUCTION_SYSTEM: INTERGRAPH ISPM,ISIR
COMPRESSION: UNDEFINED
STANDARD_VERSION: 1996 12
METADATA_DATE: 1997 6 15
DATA_FILE_SIZE: 40431036
BYTE_COUNT: 5308
