FILENAME: O4811126.SES.45754.tif
QUADRANGLE_NAME: SHELBY
QUADRANT: SE
WEST_LONGITUDE: -111 48 45.00000
EAST_LONGITUDE: -111 45 0.00000
NORTH_LATITUDE: 48 33 45.00000
SOUTH_LATITUDE: 48 30 0.00000
PRODUCTION_DATE: 1995 6 29
RASTER_ORDER: LEFT_RIGHT/TOP_BOTTOM
BAND_ORGANIZATION: SINGLE FILE
BAND_CONTENT: BLACK&WHITE
BAND_CONTENT: UNDEFINED
BAND_CONTENT: UNDEFINED
BITS_PER_PIXEL: 8
SAMPLES_AND_LINES: 5296 7604
HORIZONTAL_DATUM: NAD83
HORIZONTAL_COORDINATE_SYSTEM: UTM
COORDINATE_ZONE: 12
HORIZONTAL_UNITS: METERS
HORIZONTAL_RESOLUTION: 1.00000
SECONDARY_HORIZONTAL_DATUM: NAD27
XY_ORIGIN: 439674.50000 5379445.50000
SECONDARY_XY_ORIGIN: 439735.79400 5379227.11200
NATION: US
STATE: MT
NW_QUAD_CORNER_XY: 440053.18900 5379141.49500
NE_QUAD_CORNER_XY: 444664.44900 5379094.35600
SE_QUAD_CORNERY_XY: 444596.30300 5372147.16800
SW_QUAD_CORNER_XY: 439979.36400 5372194.32000
SECONDARY_NW_QUAD_XY: 440051.28100 5378922.52500
SECONDARY_NE_QUAD_XY: 444662.68700 5378875.38400
SECONDARY_SE_QUAD_XY: 444594.54200 5371928.20400
SECONDARY_SW_QUAD_XY: 439977.45600 5371975.35800
RMSE_XY: 1.60000
IMAGE_SOURCE: BLACK AND WHITE FILM
SOURCE_IMAGE_ID: NAPP 3890 134
SOURCE_IMAGE_DATE: 1991 7 20
SOURCE_DEM_DATE: 1995 6 29
AGENCY: WESTERN MAPPING CENTER (WMC)
PRODUCER: Woolpert Consultants
PRODUCTION_SYSTEM: INTERGRAPH ISPM,ISIR
COMPRESSION: UNDEFINED
STANDARD_VERSION: 1996 12
METADATA_DATE: 1997 6 15
DATA_FILE_SIZE: 40276080
BYTE_COUNT: 5296
