FILENAME: O4811127.NWS.45601.tif
QUADRANGLE_NAME: ANTELOPE COULEE SW
QUADRANT: NW
WEST_LONGITUDE: -111 45 0.00000
EAST_LONGITUDE: -111 41 15.00000
NORTH_LATITUDE: 48 37 30.00000
SOUTH_LATITUDE: 48 33 45.00000
PRODUCTION_DATE: 1995 6 29
RASTER_ORDER: LEFT_RIGHT/TOP_BOTTOM
BAND_ORGANIZATION: SINGLE FILE
BAND_CONTENT: BLACK&WHITE
BAND_CONTENT: UNDEFINED
BAND_CONTENT: UNDEFINED
BITS_PER_PIXEL: 8
SAMPLES_AND_LINES: 5284 7602
HORIZONTAL_DATUM: NAD83
HORIZONTAL_COORDINATE_SYSTEM: UTM
COORDINATE_ZONE: 12
HORIZONTAL_UNITS: METERS
HORIZONTAL_RESOLUTION: 1.00000
SECONDARY_HORIZONTAL_DATUM: NAD27
XY_ORIGIN: 444359.50000 5386346.50000
SECONDARY_XY_ORIGIN: 444420.85700 5386127.62900
NATION: US
STATE: MT
NW_QUAD_CORNER_XY: 444732.66100 5386041.61800
NE_QUAD_CORNER_XY: 449338.24400 5385998.26100
SE_QUAD_CORNERY_XY: 449275.71600 5379050.98700
SW_QUAD_CORNER_XY: 444664.44900 5379094.35600
SECONDARY_NW_QUAD_XY: 444730.89900 5385822.64000
SECONDARY_NE_QUAD_XY: 449336.62900 5385779.28200
SECONDARY_SE_QUAD_XY: 449274.10200 5378832.01400
SECONDARY_SW_QUAD_XY: 444662.68700 5378875.38400
RMSE_XY: 1.50000
IMAGE_SOURCE: BLACK AND WHITE FILM
SOURCE_IMAGE_ID: NAPP 3889 135
SOURCE_IMAGE_DATE: 1991 7 12
SOURCE_DEM_DATE: 1995 6 29
AGENCY: WESTERN MAPPING CENTER (WMC)
PRODUCER: Woolpert Consultants
PRODUCTION_SYSTEM: INTERGRAPH ISPM,ISIR
COMPRESSION: UNDEFINED
STANDARD_VERSION: 1996 12
METADATA_DATE: 1997 6 15
DATA_FILE_SIZE: 40174252
BYTE_COUNT: 5284
