FILENAME: O4811130.SWS.45241.tif
QUADRANGLE_NAME: MCCARTERS LAKE SE
QUADRANT: SW
WEST_LONGITUDE: -111 22 30.00000
EAST_LONGITUDE: -111 18 45.00000
NORTH_LATITUDE: 48 33 45.00000
SOUTH_LATITUDE: 48 30 0.00000
PRODUCTION_DATE: 1995 6 29
RASTER_ORDER: LEFT_RIGHT/TOP_BOTTOM
BAND_ORGANIZATION: SINGLE FILE
BAND_CONTENT: BLACK&WHITE
BAND_CONTENT: UNDEFINED
BAND_CONTENT: UNDEFINED
BITS_PER_PIXEL: 8
SAMPLES_AND_LINES: 5256 7578
HORIZONTAL_DATUM: NAD83
HORIZONTAL_COORDINATE_SYSTEM: UTM
COORDINATE_ZONE: 12
HORIZONTAL_UNITS: METERS
HORIZONTAL_RESOLUTION: 1.00000
SECONDARY_HORIZONTAL_DATUM: NAD27
XY_ORIGIN: 471993.50000 5379195.50000
SECONDARY_XY_ORIGIN: 472053.64100 5378977.40200
NATION: US
STATE: MT
NW_QUAD_CORNER_XY: 472332.15200 5378890.71600
NE_QUAD_CORNER_XY: 476943.45400 5378869.97500
SE_QUAD_CORNERY_XY: 476915.06100 5371922.72700
SW_QUAD_CORNER_XY: 472298.08000 5371943.47300
SECONDARY_NW_QUAD_XY: 472331.27100 5378671.73800
SECONDARY_NE_QUAD_XY: 476942.72000 5378650.99600
SECONDARY_SE_QUAD_XY: 476914.32700 5371703.75600
SECONDARY_SW_QUAD_XY: 472297.19900 5371724.50300
RMSE_XY: 1.40000
IMAGE_SOURCE: BLACK AND WHITE FILM
SOURCE_IMAGE_ID: NAPP 3887 140
SOURCE_IMAGE_DATE: 1991 7 12
SOURCE_DEM_DATE: 1995 6 29
AGENCY: WESTERN MAPPING CENTER (WMC)
PRODUCER: Woolpert Consultants
PRODUCTION_SYSTEM: INTERGRAPH ISPM,ISIR
COMPRESSION: UNDEFINED
STANDARD_VERSION: 1996 12
METADATA_DATE: 1997 6 15
DATA_FILE_SIZE: 39835224
BYTE_COUNT: 5256
