FILENAME: O4811132.NES.1115459.tif
QUADRANGLE_NAME: TIBER
QUADRANT: NE
WEST_LONGITUDE: -111 3 45.00000
EAST_LONGITUDE: -111 0 0.00000
NORTH_LATITUDE: 48 37 30.00000
SOUTH_LATITUDE: 48 33 45.00000
PRODUCTION_DATE: 2000 10 18
RASTER_ORDER: LEFT_RIGHT/TOP_BOTTOM
BAND_ORGANIZATION: SINGLE FILE
BAND_CONTENT: BLACK&WHITE
BAND_CONTENT: UNDEFINED
BAND_CONTENT: UNDEFINED
BITS_PER_PIXEL: 8
SAMPLES_AND_LINES: 5274 7554
HORIZONTAL_DATUM: NAD83
HORIZONTAL_COORDINATE_SYSTEM: UTM
COORDINATE_ZONE: 12
HORIZONTAL_UNITS: METERS
HORIZONTAL_RESOLUTION: 1.00000
SECONDARY_HORIZONTAL_DATUM: NAD27
XY_ORIGIN: 495027.00000 5386073.00000
SECONDARY_XY_ORIGIN: 495086.57600 5385854.88400
NATION: US
NATION: "SCIENCE
STATE: MT
NW_QUAD_CORNER_XY: 495394.37200 5385772.05800
NE_QUAD_CORNER_XY: 500000.00000 5385770.17300
SE_QUAD_CORNERY_XY: 500000.00000 5378822.83700
SW_QUAD_CORNER_XY: 495388.68800 5378824.72200
SECONDARY_NW_QUAD_XY: 495394.22500 5385553.07100
SECONDARY_NE_QUAD_XY: 500000.00000 5385551.18600
SECONDARY_SE_QUAD_XY: 500000.00000 5378603.85700
SECONDARY_SW_QUAD_XY: 495388.54100 5378605.74200
RMSE_XY: 0.90000
IMAGE_SOURCE: BLACK AND WHITE FILM
SOURCE_IMAGE_ID: NAPP 9169 089
SOURCE_IMAGE_DATE: 1997 07 25
SOURCE_IMAGE_ID: NAPP 9169 087
SOURCE_IMAGE_DATE: 1997 07 25
SOURCE_DEM_DATE: 1961 00 00
AGENCY: WESTERN MAPPING CENTER (WMC)
PRODUCER: UNDEFINED
PRODUCTION_SYSTEM: GIS/MAGIC
COMPRESSION: UNDEFINED
STANDARD_VERSION: 1996 12
METADATA_DATE: 2000 11 29
DATA_FILE_SIZE: 39845070
BYTE_COUNT: 5274
