FILENAME: O4811135.SES.45606.tif
QUADRANGLE_NAME: DUNKIRK
QUADRANT: SE
WEST_LONGITUDE: -111 41 15.00000
EAST_LONGITUDE: -111 37 30.00000
NORTH_LATITUDE: 48 26 15.00000
SOUTH_LATITUDE: 48 22 30.00000
PRODUCTION_DATE: 1995 6 29
RASTER_ORDER: LEFT_RIGHT/TOP_BOTTOM
BAND_ORGANIZATION: SINGLE FILE
BAND_CONTENT: BLACK&WHITE
BAND_CONTENT: UNDEFINED
BAND_CONTENT: UNDEFINED
BITS_PER_PIXEL: 8
SAMPLES_AND_LINES: 5294 7598
HORIZONTAL_DATUM: NAD83
HORIZONTAL_COORDINATE_SYSTEM: UTM
COORDINATE_ZONE: 12
HORIZONTAL_UNITS: METERS
HORIZONTAL_RESOLUTION: 1.00000
SECONDARY_HORIZONTAL_DATUM: NAD27
XY_ORIGIN: 448784.50000 5365461.50000
SECONDARY_XY_ORIGIN: 448845.39900 5365243.72200
NATION: US
STATE: MT
NW_QUAD_CORNER_XY: 449150.84400 5365156.66300
NE_QUAD_CORNER_XY: 453773.47200 5365117.04500
SE_QUAD_CORNERY_XY: 453716.79600 5358169.98500
SW_QUAD_CORNER_XY: 449088.50000 5358209.61300
SECONDARY_NW_QUAD_XY: 449149.23000 5364937.70600
SECONDARY_NE_QUAD_XY: 453772.00400 5364898.08700
SECONDARY_SE_QUAD_XY: 453715.32800 5357951.03600
SECONDARY_SW_QUAD_XY: 449086.88600 5357990.66500
RMSE_XY: 1.90000
IMAGE_SOURCE: BLACK AND WHITE FILM
SOURCE_IMAGE_ID: NAPP 3889 170
SOURCE_IMAGE_DATE: 1991 7 12
SOURCE_DEM_DATE: 1995 6 29
AGENCY: WESTERN MAPPING CENTER (WMC)
PRODUCER: Woolpert Consultants
PRODUCTION_SYSTEM: INTERGRAPH ISPM,ISIR
COMPRESSION: UNDEFINED
STANDARD_VERSION: 1996 12
METADATA_DATE: 1997 6 15
DATA_FILE_SIZE: 40229106
BYTE_COUNT: 5294
