FILENAME: O4811135.NWS.45605.tif
QUADRANGLE_NAME: DUNKIRK
QUADRANT: NW
WEST_LONGITUDE: -111 45 0.00000
EAST_LONGITUDE: -111 41 15.00000
NORTH_LATITUDE: 48 30 0.00000
SOUTH_LATITUDE: 48 26 15.00000
PRODUCTION_DATE: 1995 6 29
RASTER_ORDER: LEFT_RIGHT/TOP_BOTTOM
BAND_ORGANIZATION: SINGLE FILE
BAND_CONTENT: BLACK&WHITE
BAND_CONTENT: UNDEFINED
BAND_CONTENT: UNDEFINED
BITS_PER_PIXEL: 8
SAMPLES_AND_LINES: 5296 7600
HORIZONTAL_DATUM: NAD83
HORIZONTAL_COORDINATE_SYSTEM: UTM
COORDINATE_ZONE: 12
HORIZONTAL_UNITS: METERS
HORIZONTAL_RESOLUTION: 1.00000
SECONDARY_HORIZONTAL_DATUM: NAD27
XY_ORIGIN: 444223.50000 5372451.50000
SECONDARY_XY_ORIGIN: 444284.57100 5372233.43500
NATION: US
STATE: MT
NW_QUAD_CORNER_XY: 444596.30300 5372147.16800
NE_QUAD_CORNER_XY: 449213.25000 5372103.78800
SE_QUAD_CORNERY_XY: 449150.84400 5365156.66300
SW_QUAD_CORNER_XY: 444528.22400 5365200.05400
SECONDARY_NW_QUAD_XY: 444594.54200 5371928.20400
SECONDARY_NE_QUAD_XY: 449211.63500 5371884.82200
SECONDARY_SE_QUAD_XY: 449149.23000 5364937.70600
SECONDARY_SW_QUAD_XY: 444526.46300 5364981.09900
RMSE_XY: 1.60000
IMAGE_SOURCE: BLACK AND WHITE FILM
SOURCE_IMAGE_ID: NAPP 3889 131
SOURCE_IMAGE_DATE: 1991 7 12
SOURCE_DEM_DATE: 1995 6 29
AGENCY: WESTERN MAPPING CENTER (WMC)
PRODUCER: Woolpert Consultants
PRODUCTION_SYSTEM: INTERGRAPH ISPM,ISIR
COMPRESSION: UNDEFINED
STANDARD_VERSION: 1996 12
METADATA_DATE: 1997 6 15
DATA_FILE_SIZE: 40254896
BYTE_COUNT: 5296
