FILENAME: O4811136.NWS.45481.tif
QUADRANGLE_NAME: SOUTH DEVON SCHOOL
QUADRANT: NW
WEST_LONGITUDE: -111 37 30.00000
EAST_LONGITUDE: -111 33 45.00000
NORTH_LATITUDE: 48 30 0.00000
SOUTH_LATITUDE: 48 26 15.00000
PRODUCTION_DATE: 1995 6 29
RASTER_ORDER: LEFT_RIGHT/TOP_BOTTOM
BAND_ORGANIZATION: SINGLE FILE
BAND_CONTENT: BLACK&WHITE
BAND_CONTENT: UNDEFINED
BAND_CONTENT: UNDEFINED
BITS_PER_PIXEL: 8
SAMPLES_AND_LINES: 5284 7594
HORIZONTAL_DATUM: NAD83
HORIZONTAL_COORDINATE_SYSTEM: UTM
COORDINATE_ZONE: 12
HORIZONTAL_UNITS: METERS
HORIZONTAL_RESOLUTION: 1.00000
SECONDARY_HORIZONTAL_DATUM: NAD27
XY_ORIGIN: 453468.50000 5372368.50000
SECONDARY_XY_ORIGIN: 453529.27500 5372150.52400
NATION: US
STATE: MT
NW_QUAD_CORNER_XY: 453830.20400 5372064.18000
NE_QUAD_CORNER_XY: 458447.16500 5372028.34500
SE_QUAD_CORNERY_XY: 458396.10600 5365081.20000
SW_QUAD_CORNER_XY: 453773.47200 5365117.04500
SECONDARY_NW_QUAD_XY: 453828.73600 5371845.21400
SECONDARY_NE_QUAD_XY: 458445.84400 5371809.37700
SECONDARY_SE_QUAD_XY: 458394.78500 5364862.24100
SECONDARY_SW_QUAD_XY: 453772.00400 5364898.08700
RMSE_XY: 1.50000
IMAGE_SOURCE: BLACK AND WHITE FILM
SOURCE_IMAGE_ID: NAPP 3889 073
SOURCE_IMAGE_DATE: 1991 7 12
SOURCE_DEM_DATE: 1995 6 29
AGENCY: WESTERN MAPPING CENTER (WMC)
PRODUCER: Woolpert Consultants
PRODUCTION_SYSTEM: INTERGRAPH ISPM,ISIR
COMPRESSION: UNDEFINED
STANDARD_VERSION: 1996 12
METADATA_DATE: 1997 6 15
DATA_FILE_SIZE: 40131980
BYTE_COUNT: 5284
