FILENAME: O4811138.NWS.45243.tif
QUADRANGLE_NAME: GALATA
QUADRANT: NW
WEST_LONGITUDE: -111 22 30.00000
EAST_LONGITUDE: -111 18 45.00000
NORTH_LATITUDE: 48 30 0.00000
SOUTH_LATITUDE: 48 26 15.00000
PRODUCTION_DATE: 1995 6 29
RASTER_ORDER: LEFT_RIGHT/TOP_BOTTOM
BAND_ORGANIZATION: SINGLE FILE
BAND_CONTENT: BLACK&WHITE
BAND_CONTENT: UNDEFINED
BAND_CONTENT: UNDEFINED
BITS_PER_PIXEL: 8
SAMPLES_AND_LINES: 5262 7578
HORIZONTAL_DATUM: NAD83
HORIZONTAL_COORDINATE_SYSTEM: UTM
COORDINATE_ZONE: 12
HORIZONTAL_UNITS: METERS
HORIZONTAL_RESOLUTION: 1.00000
SECONDARY_HORIZONTAL_DATUM: NAD27
XY_ORIGIN: 471959.50000 5372247.50000
SECONDARY_XY_ORIGIN: 472019.72400 5372029.70900
NATION: US
STATE: MT
NW_QUAD_CORNER_XY: 472298.08000 5371943.47300
NE_QUAD_CORNER_XY: 476915.06100 5371922.72700
SE_QUAD_CORNERY_XY: 476886.69500 5364975.55500
SW_QUAD_CORNER_XY: 472264.04200 5364996.30600
SECONDARY_NW_QUAD_XY: 472297.19900 5371724.50300
SECONDARY_NE_QUAD_XY: 476914.32700 5371703.75600
SECONDARY_SE_QUAD_XY: 476885.96100 5364756.59200
SECONDARY_SW_QUAD_XY: 472263.16100 5364777.34500
RMSE_XY: 1.50000
IMAGE_SOURCE: BLACK AND WHITE FILM
SOURCE_IMAGE_ID: NAPP 3887 138
SOURCE_IMAGE_DATE: 1991 7 12
SOURCE_DEM_DATE: 1995 6 29
AGENCY: WESTERN MAPPING CENTER (WMC)
PRODUCER: Woolpert Consultants
PRODUCTION_SYSTEM: INTERGRAPH ISPM,ISIR
COMPRESSION: UNDEFINED
STANDARD_VERSION: 1996 12
METADATA_DATE: 1997 6 15
DATA_FILE_SIZE: 39880698
BYTE_COUNT: 5262
