FILENAME: O4811138.NES.45242.tif
QUADRANGLE_NAME: GALATA
QUADRANT: NE
WEST_LONGITUDE: -111 18 45.00000
EAST_LONGITUDE: -111 15 0.00000
NORTH_LATITUDE: 48 30 0.00000
SOUTH_LATITUDE: 48 26 15.00000
PRODUCTION_DATE: 1995 6 29
RASTER_ORDER: LEFT_RIGHT/TOP_BOTTOM
BAND_ORGANIZATION: SINGLE FILE
BAND_CONTENT: BLACK&WHITE
BAND_CONTENT: UNDEFINED
BAND_CONTENT: UNDEFINED
BITS_PER_PIXEL: 8
SAMPLES_AND_LINES: 5256 7574
HORIZONTAL_DATUM: NAD83
HORIZONTAL_COORDINATE_SYSTEM: UTM
COORDINATE_ZONE: 12
HORIZONTAL_UNITS: METERS
HORIZONTAL_RESOLUTION: 1.00000
SECONDARY_HORIZONTAL_DATUM: NAD27
XY_ORIGIN: 476582.50000 5372227.50000
SECONDARY_XY_ORIGIN: 476642.60000 5372009.75400
NATION: US
STATE: MT
NW_QUAD_CORNER_XY: 476915.06100 5371922.72700
NE_QUAD_CORNER_XY: 481532.04500 5371905.75300
SE_QUAD_CORNERY_XY: 481509.35200 5364958.57600
SW_QUAD_CORNER_XY: 476886.69500 5364975.55500
SECONDARY_NW_QUAD_XY: 476914.32700 5371703.75600
SECONDARY_NE_QUAD_XY: 481531.45700 5371686.78100
SECONDARY_SE_QUAD_XY: 481508.76500 5364739.61300
SECONDARY_SW_QUAD_XY: 476885.96100 5364756.59200
RMSE_XY: 1.50000
IMAGE_SOURCE: BLACK AND WHITE FILM
SOURCE_IMAGE_ID: NAPP 3887 107
SOURCE_IMAGE_DATE: 1991 7 12
SOURCE_DEM_DATE: 1995 6 29
AGENCY: WESTERN MAPPING CENTER (WMC)
PRODUCER: Woolpert Consultants
PRODUCTION_SYSTEM: INTERGRAPH ISPM,ISIR
COMPRESSION: UNDEFINED
STANDARD_VERSION: 1996 12
METADATA_DATE: 1997 6 15
DATA_FILE_SIZE: 39814200
BYTE_COUNT: 5256
