FILENAME: O4811139.NWS.961700.tif
QUADRANGLE_NAME: LOTHAIR
QUADRANT: NW
WEST_LONGITUDE: -111 15 0.00000
EAST_LONGITUDE: -111 11 15.00000
NORTH_LATITUDE: 48 30 0.00000
SOUTH_LATITUDE: 48 26 15.00000
PRODUCTION_DATE: 1999 2 26
RASTER_ORDER: LEFT_RIGHT/TOP_BOTTOM
BAND_ORGANIZATION: SINGLE FILE
BAND_CONTENT: BLACK&WHITE
BAND_CONTENT: UNDEFINED
BAND_CONTENT: UNDEFINED
BITS_PER_PIXEL: 8
SAMPLES_AND_LINES: 5300 7565
HORIZONTAL_DATUM: NAD83
HORIZONTAL_COORDINATE_SYSTEM: UTM
COORDINATE_ZONE: 12
HORIZONTAL_UNITS: METERS
HORIZONTAL_RESOLUTION: 1.00000
SECONDARY_HORIZONTAL_DATUM: NAD27
XY_ORIGIN: 481148.00000 5372207.00000
SECONDARY_XY_ORIGIN: 481207.97800 5371989.29900
NATION: US
STATE: MT
NW_QUAD_CORNER_XY: 481532.04400 5371905.75300
NE_QUAD_CORNER_XY: 486149.03100 5371892.55100
SE_QUAD_CORNERY_XY: 486132.01200 5364945.37100
SW_QUAD_CORNER_XY: 481509.35200 5364958.57600
SECONDARY_NW_QUAD_XY: 481531.45700 5371686.78200
SECONDARY_NE_QUAD_XY: 486148.59100 5371673.57900
SECONDARY_SE_QUAD_XY: 486131.57200 5364726.40800
SECONDARY_SW_QUAD_XY: 481508.76500 5364739.61400
RMSE_XY: 2.60000
IMAGE_SOURCE: BLACK AND WHITE FILM
SOURCE_IMAGE_ID: NAPP 9170 026
SOURCE_IMAGE_DATE: 1997 8 22
SOURCE_DEM_DATE: 1969 0 0
AGENCY: WESTERN MAPPING CENTER (WMC)
PRODUCER: ROCKY MOUNTAIN MAPPING CENTER (RMMC)
PRODUCTION_SYSTEM: DV2.6.3 10/9OV2.4 5/95
COMPRESSION: UNDEFINED
STANDARD_VERSION: 1996 12
METADATA_DATE: 1999 2 26
DATA_FILE_SIZE: 40099800
BYTE_COUNT: 5300
