FILENAME: O4811140.NWS.1115464.tif
QUADRANGLE_NAME: SAGEBRUSH COULEE
QUADRANT: NW
WEST_LONGITUDE: -111 7 30.00000
EAST_LONGITUDE: -111 3 45.00000
NORTH_LATITUDE: 48 30 0.00000
SOUTH_LATITUDE: 48 26 15.00000
PRODUCTION_DATE: 2000 10 18
RASTER_ORDER: LEFT_RIGHT/TOP_BOTTOM
BAND_ORGANIZATION: SINGLE FILE
BAND_CONTENT: BLACK&WHITE
BAND_CONTENT: UNDEFINED
BAND_CONTENT: UNDEFINED
BITS_PER_PIXEL: 8
SAMPLES_AND_LINES: 5292 7558
HORIZONTAL_DATUM: NAD83
HORIZONTAL_COORDINATE_SYSTEM: UTM
COORDINATE_ZONE: 12
HORIZONTAL_UNITS: METERS
HORIZONTAL_RESOLUTION: 1.00000
SECONDARY_HORIZONTAL_DATUM: NAD27
XY_ORIGIN: 490393.00000 5372184.00000
SECONDARY_XY_ORIGIN: 490452.79000 5371966.31300
NATION: US
NATION: "SCIENCE
STATE: MT
NW_QUAD_CORNER_XY: 490766.02000 5371883.12000
NE_QUAD_CORNER_XY: 495383.00900 5371877.46200
SE_QUAD_CORNERY_XY: 495377.33600 5364930.27800
SW_QUAD_CORNER_XY: 490754.67400 5364935.93800
SECONDARY_NW_QUAD_XY: 490765.72600 5371664.14800
SECONDARY_NE_QUAD_XY: 495382.86300 5371658.49000
SECONDARY_SE_QUAD_XY: 495377.19000 5364711.31400
SECONDARY_SW_QUAD_XY: 490754.38000 5364716.97400
RMSE_XY: 1.30000
IMAGE_SOURCE: BLACK AND WHITE FILM
SOURCE_IMAGE_ID: NAPP 9169 122
SOURCE_IMAGE_DATE: 1997 07 25
SOURCE_DEM_DATE: 1969 00 00
AGENCY: WESTERN MAPPING CENTER (WMC)
PRODUCER: UNDEFINED
PRODUCTION_SYSTEM: GIS/MAGIC
COMPRESSION: UNDEFINED
STANDARD_VERSION: 1996 12
METADATA_DATE: 2000 11 29
DATA_FILE_SIZE: 40002228
BYTE_COUNT: 5292
