FILENAME: O4811141.NES.958531.tif
QUADRANGLE_NAME: PIONEER SCHOOL
QUADRANT: NE
WEST_LONGITUDE: -111 56 15.00000
EAST_LONGITUDE: -111 52 30.00000
NORTH_LATITUDE: 48 22 30.00000
SOUTH_LATITUDE: 48 18 45.00000
PRODUCTION_DATE: 1999 2 8
RASTER_ORDER: LEFT_RIGHT/TOP_BOTTOM
BAND_ORGANIZATION: SINGLE FILE
BAND_CONTENT: BLACK&WHITE
BAND_CONTENT: UNDEFINED
BAND_CONTENT: UNDEFINED
BITS_PER_PIXEL: 8
SAMPLES_AND_LINES: 5380 7606
HORIZONTAL_DATUM: NAD83
HORIZONTAL_COORDINATE_SYSTEM: UTM
COORDINATE_ZONE: 12
HORIZONTAL_UNITS: METERS
HORIZONTAL_RESOLUTION: 1.00000
SECONDARY_HORIZONTAL_DATUM: NAD27
XY_ORIGIN: 430126.00000 5358707.00000
SECONDARY_XY_ORIGIN: 430187.30100 5358489.36700
NATION: US
STATE: MT
NW_QUAD_CORNER_XY: 430575.39400 5358405.87000
NE_QUAD_CORNER_XY: 435203.65800 5358351.14400
SE_QUAD_CORNERY_XY: 435124.38600 5351404.20400
SW_QUAD_CORNER_XY: 430490.45900 5351458.94500
SECONDARY_NW_QUAD_XY: 430573.19200 5358186.92900
SECONDARY_NE_QUAD_XY: 435201.60300 5358132.20100
SECONDARY_SE_QUAD_XY: 435122.33100 5351185.27200
SECONDARY_SW_QUAD_XY: 430488.25800 5351240.01400
RMSE_XY: 1.60000
IMAGE_SOURCE: BLACK AND WHITE FILM
SOURCE_IMAGE_ID: NAPP 9178 091
SOURCE_IMAGE_DATE: 1997 9 4
SOURCE_DEM_DATE: 1965 0 0
AGENCY: WESTERN MAPPING CENTER (WMC)
PRODUCER: ROCKY MOUNTAIN MAPPING CENTER (RMMC)
PRODUCTION_SYSTEM: DV2.6.3 10/9OV2.4 5/95
COMPRESSION: UNDEFINED
STANDARD_VERSION: 1996 12
METADATA_DATE: 1999 2 9
DATA_FILE_SIZE: 40925660
BYTE_COUNT: 5380
