FILENAME: O4811143.NWS.958473.tif
QUADRANGLE_NAME: CONRAD BUTTE
QUADRANT: NW
WEST_LONGITUDE: -111 45 0.00000
EAST_LONGITUDE: -111 41 15.00000
NORTH_LATITUDE: 48 22 30.00000
SOUTH_LATITUDE: 48 18 45.00000
PRODUCTION_DATE: 1999 2 3
RASTER_ORDER: LEFT_RIGHT/TOP_BOTTOM
BAND_ORGANIZATION: SINGLE FILE
BAND_CONTENT: BLACK&WHITE
BAND_CONTENT: UNDEFINED
BAND_CONTENT: UNDEFINED
BITS_PER_PIXEL: 8
SAMPLES_AND_LINES: 5360 7595
HORIZONTAL_DATUM: NAD83
HORIZONTAL_COORDINATE_SYSTEM: UTM
COORDINATE_ZONE: 12
HORIZONTAL_UNITS: METERS
HORIZONTAL_RESOLUTION: 1.00000
SECONDARY_HORIZONTAL_DATUM: NAD27
XY_ORIGIN: 444029.00000 5358554.00000
SECONDARY_XY_ORIGIN: 444090.01000 5358336.43000
NATION: US
STATE: MT
NW_QUAD_CORNER_XY: 444460.21100 5358253.01600
NE_QUAD_CORNER_XY: 449088.50000 5358209.61300
SE_QUAD_CORNERY_XY: 449026.21700 5351262.63800
SW_QUAD_CORNER_XY: 444392.26500 5351306.05100
SECONDARY_NW_QUAD_XY: 444458.45000 5358034.07000
SECONDARY_NE_QUAD_XY: 449086.88500 5357990.66600
SECONDARY_SE_QUAD_XY: 449024.60200 5351043.70100
SECONDARY_SW_QUAD_XY: 444390.50400 5351087.11600
RMSE_XY: 1.60000
IMAGE_SOURCE: BLACK AND WHITE FILM
SOURCE_IMAGE_ID: NAPP 9178 159
SOURCE_IMAGE_DATE: 1997 9 4
SOURCE_DEM_DATE: 1965 0 0
AGENCY: WESTERN MAPPING CENTER (WMC)
PRODUCER: ROCKY MOUNTAIN MAPPING CENTER (RMMC)
PRODUCTION_SYSTEM: DV2.6.3 10/9OV2.4 5/95
COMPRESSION: UNDEFINED
STANDARD_VERSION: 1996 12
METADATA_DATE: 1999 2 4
DATA_FILE_SIZE: 40714560
BYTE_COUNT: 5360
