FILENAME: O4811145.SES.961709.tif
QUADRANGLE_NAME: DENSON RANCH
QUADRANT: SE
WEST_LONGITUDE: -111 26 15.00000
EAST_LONGITUDE: -111 22 30.00000
NORTH_LATITUDE: 48 18 45.00000
SOUTH_LATITUDE: 48 15 0.00000
PRODUCTION_DATE: 1999 2 25
RASTER_ORDER: LEFT_RIGHT/TOP_BOTTOM
BAND_ORGANIZATION: SINGLE FILE
BAND_CONTENT: BLACK&WHITE
BAND_CONTENT: UNDEFINED
BAND_CONTENT: UNDEFINED
BITS_PER_PIXEL: 8
SAMPLES_AND_LINES: 5336 7577
HORIZONTAL_DATUM: NAD83
HORIZONTAL_COORDINATE_SYSTEM: UTM
COORDINATE_ZONE: 12
HORIZONTAL_UNITS: METERS
HORIZONTAL_RESOLUTION: 1.00000
SECONDARY_HORIZONTAL_DATUM: NAD27
XY_ORIGIN: 467160.00000 5351428.00000
SECONDARY_XY_ORIGIN: 467220.33900 5351210.79100
NATION: US
STATE: MT
NW_QUAD_CORNER_XY: 467562.08500 5351126.73700
NE_QUAD_CORNER_XY: 472196.06500 5351102.20000
SE_QUAD_CORNERY_XY: 472162.12600 5344155.25900
SW_QUAD_CORNER_XY: 467522.49000 5344179.80300
SECONDARY_NW_QUAD_XY: 467561.05800 5350907.79600
SECONDARY_NE_QUAD_XY: 472195.18400 5350883.25700
SECONDARY_SE_QUAD_XY: 472161.24600 5343936.32800
SECONDARY_SW_QUAD_XY: 467521.46300 5343960.87200
RMSE_XY: 1.60000
IMAGE_SOURCE: BLACK AND WHITE FILM
SOURCE_IMAGE_ID: NAPP 9175 123
SOURCE_IMAGE_DATE: 1997 8 30
SOURCE_DEM_DATE: 1962 0 0
AGENCY: WESTERN MAPPING CENTER (WMC)
PRODUCER: ROCKY MOUNTAIN MAPPING CENTER (RMMC)
PRODUCTION_SYSTEM: DV2.6.3 10/9OV2.4 5/95
COMPRESSION: UNDEFINED
STANDARD_VERSION: 1996 12
METADATA_DATE: 1999 2 26
DATA_FILE_SIZE: 40436208
BYTE_COUNT: 5336
