FILENAME: O4811145.NWS.961708.tif
QUADRANGLE_NAME: DENSON RANCH
QUADRANT: NW
WEST_LONGITUDE: -111 30 0.00000
EAST_LONGITUDE: -111 26 15.00000
NORTH_LATITUDE: 48 22 30.00000
SOUTH_LATITUDE: 48 18 45.00000
PRODUCTION_DATE: 1999 2 25
RASTER_ORDER: LEFT_RIGHT/TOP_BOTTOM
BAND_ORGANIZATION: SINGLE FILE
BAND_CONTENT: BLACK&WHITE
BAND_CONTENT: UNDEFINED
BAND_CONTENT: UNDEFINED
BITS_PER_PIXEL: 8
SAMPLES_AND_LINES: 5336 7580
HORIZONTAL_DATUM: NAD83
HORIZONTAL_COORDINATE_SYSTEM: UTM
COORDINATE_ZONE: 12
HORIZONTAL_UNITS: METERS
HORIZONTAL_RESOLUTION: 1.00000
SECONDARY_HORIZONTAL_DATUM: NAD27
XY_ORIGIN: 462565.00000 5358403.00000
SECONDARY_XY_ORIGIN: 462625.46700 5358185.55400
NATION: US
STATE: MT
NW_QUAD_CORNER_XY: 462973.40600 5358102.05200
NE_QUAD_CORNER_XY: 467601.71900 5358073.74600
SE_QUAD_CORNERY_XY: 467562.08500 5351126.73700
SW_QUAD_CORNER_XY: 462928.11000 5351155.04900
SECONDARY_NW_QUAD_XY: 462972.23200 5357883.10100
SECONDARY_NE_QUAD_XY: 467600.69200 5357854.79500
SECONDARY_SE_QUAD_XY: 467561.05800 5350907.79600
SECONDARY_SW_QUAD_XY: 462926.93600 5350936.10900
RMSE_XY: 1.50000
IMAGE_SOURCE: BLACK AND WHITE FILM
SOURCE_IMAGE_ID: NAPP 9176 020
SOURCE_IMAGE_DATE: 1997 8 30
SOURCE_DEM_DATE: 1962 0 0
AGENCY: WESTERN MAPPING CENTER (WMC)
PRODUCER: ROCKY MOUNTAIN MAPPING CENTER (RMMC)
PRODUCTION_SYSTEM: DV2.6.3 10/9OV2.4 5/95
COMPRESSION: UNDEFINED
STANDARD_VERSION: 1996 12
METADATA_DATE: 1999 2 26
DATA_FILE_SIZE: 40452216
BYTE_COUNT: 5336
