FILENAME: O4811147.SWS.961718.tif
QUADRANGLE_NAME: LOTHAIR SW
QUADRANT: SW
WEST_LONGITUDE: -111 15 0.00000
EAST_LONGITUDE: -111 11 15.00000
NORTH_LATITUDE: 48 18 45.00000
SOUTH_LATITUDE: 48 15 0.00000
PRODUCTION_DATE: 1999 2 26
RASTER_ORDER: LEFT_RIGHT/TOP_BOTTOM
BAND_ORGANIZATION: SINGLE FILE
BAND_CONTENT: BLACK&WHITE
BAND_CONTENT: UNDEFINED
BAND_CONTENT: UNDEFINED
BITS_PER_PIXEL: 8
SAMPLES_AND_LINES: 5320 7565
HORIZONTAL_DATUM: NAD83
HORIZONTAL_COORDINATE_SYSTEM: UTM
COORDINATE_ZONE: 12
HORIZONTAL_UNITS: METERS
HORIZONTAL_RESOLUTION: 1.00000
SECONDARY_HORIZONTAL_DATUM: NAD27
XY_ORIGIN: 481080.00000 5351365.00000
SECONDARY_XY_ORIGIN: 481139.98000 5351147.85100
NATION: US
STATE: MT
NW_QUAD_CORNER_XY: 481464.03500 5351064.45000
NE_QUAD_CORNER_XY: 486098.02400 5351051.23800
SE_QUAD_CORNERY_XY: 486081.05500 5344104.28500
SW_QUAD_CORNER_XY: 481441.40900 5344117.50100
SECONDARY_NW_QUAD_XY: 481463.44800 5350845.50700
SECONDARY_NE_QUAD_XY: 486097.58400 5350832.29400
SECONDARY_SE_QUAD_XY: 486080.61400 5343885.35200
SECONDARY_SW_QUAD_XY: 481440.82200 5343898.56800
RMSE_XY: 2.50000
IMAGE_SOURCE: BLACK AND WHITE FILM
SOURCE_IMAGE_ID: NAPP 9170 020
SOURCE_IMAGE_DATE: 1997 8 22
SOURCE_DEM_DATE: 1962 0 0
AGENCY: WESTERN MAPPING CENTER (WMC)
PRODUCER: ROCKY MOUNTAIN MAPPING CENTER (RMMC)
PRODUCTION_SYSTEM: DV2.6.3 10/9OV2.4 5/95
COMPRESSION: UNDEFINED
STANDARD_VERSION: 1996 12
METADATA_DATE: 1999 2 26
DATA_FILE_SIZE: 40251120
BYTE_COUNT: 5320
