FILENAME: O4811147.NES.961715.tif
QUADRANGLE_NAME: LOTHAIR SW
QUADRANT: NE
WEST_LONGITUDE: -111 11 15.00000
EAST_LONGITUDE: -111 7 30.00000
NORTH_LATITUDE: 48 22 30.00000
SOUTH_LATITUDE: 48 18 45.00000
PRODUCTION_DATE: 1999 2 26
RASTER_ORDER: LEFT_RIGHT/TOP_BOTTOM
BAND_ORGANIZATION: SINGLE FILE
BAND_CONTENT: BLACK&WHITE
BAND_CONTENT: UNDEFINED
BAND_CONTENT: UNDEFINED
BITS_PER_PIXEL: 8
SAMPLES_AND_LINES: 5308 7561
HORIZONTAL_DATUM: NAD83
HORIZONTAL_COORDINATE_SYSTEM: UTM
COORDINATE_ZONE: 12
HORIZONTAL_UNITS: METERS
HORIZONTAL_RESOLUTION: 1.00000
SECONDARY_HORIZONTAL_DATUM: NAD27
XY_ORIGIN: 485737.00000 5358299.00000
SECONDARY_XY_ORIGIN: 485796.85800 5358081.70000
NATION: US
STATE: MT
NW_QUAD_CORNER_XY: 486115.01000 5357998.26600
NE_QUAD_CORNER_XY: 490743.33900 5357988.83200
SE_QUAD_CORNERY_XY: 490732.01500 5351041.80100
SW_QUAD_CORNER_XY: 486098.02400 5351051.23800
SECONDARY_NW_QUAD_XY: 486114.56900 5357779.31200
SECONDARY_NE_QUAD_XY: 490743.04500 5357769.87700
SECONDARY_SE_QUAD_XY: 490731.72100 5350822.85600
SECONDARY_SW_QUAD_XY: 486097.58400 5350832.29400
RMSE_XY: 1.10000
IMAGE_SOURCE: BLACK AND WHITE FILM
SOURCE_IMAGE_ID: NAPP 9170 067
SOURCE_IMAGE_DATE: 1997 8 22
SOURCE_DEM_DATE: 1962 0 0
AGENCY: WESTERN MAPPING CENTER (WMC)
PRODUCER: ROCKY MOUNTAIN MAPPING CENTER (RMMC)
PRODUCTION_SYSTEM: DV2.6.3 10/9OV2.4 5/95
COMPRESSION: UNDEFINED
STANDARD_VERSION: 1996 12
METADATA_DATE: 1999 2 26
DATA_FILE_SIZE: 40139096
BYTE_COUNT: 5308
