FILENAME: O4811148.SWS.961722.tif
QUADRANGLE_NAME: TIBER DAM
QUADRANT: SW
WEST_LONGITUDE: -111 7 30.00000
EAST_LONGITUDE: -111 3 45.00000
NORTH_LATITUDE: 48 18 45.00000
SOUTH_LATITUDE: 48 15 0.00000
PRODUCTION_DATE: 1999 3 1
RASTER_ORDER: LEFT_RIGHT/TOP_BOTTOM
BAND_ORGANIZATION: SINGLE FILE
BAND_CONTENT: BLACK&WHITE
BAND_CONTENT: UNDEFINED
BAND_CONTENT: UNDEFINED
BITS_PER_PIXEL: 8
SAMPLES_AND_LINES: 5308 7558
HORIZONTAL_DATUM: NAD83
HORIZONTAL_COORDINATE_SYSTEM: UTM
COORDINATE_ZONE: 12
HORIZONTAL_UNITS: METERS
HORIZONTAL_RESOLUTION: 1.00000
SECONDARY_HORIZONTAL_DATUM: NAD27
XY_ORIGIN: 490360.00000 5351343.00000
SECONDARY_XY_ORIGIN: 490419.71100 5351125.94300
NATION: US
STATE: MT
NW_QUAD_CORNER_XY: 490732.01500 5351041.80100
NE_QUAD_CORNER_XY: 495366.00700 5351036.13800
SE_QUAD_CORNERY_XY: 495360.35100 5344089.18200
SW_QUAD_CORNER_XY: 490720.70200 5344094.84500
SECONDARY_NW_QUAD_XY: 490731.72100 5350822.85600
SECONDARY_NE_QUAD_XY: 495365.86000 5350817.19400
SECONDARY_SE_QUAD_XY: 495360.20400 5343870.24800
SECONDARY_SW_QUAD_XY: 490720.40900 5343875.91200
RMSE_XY: 1.50000
IMAGE_SOURCE: BLACK AND WHITE FILM
SOURCE_IMAGE_ID: NAPP 9169 128
SOURCE_IMAGE_DATE: 1997 7 25
SOURCE_DEM_DATE: 1962 0 0
AGENCY: WESTERN MAPPING CENTER (WMC)
PRODUCER: ROCKY MOUNTAIN MAPPING CENTER (RMMC)
PRODUCTION_SYSTEM: DV2.6.3 10/9OV2.4 5/95
COMPRESSION: UNDEFINED
STANDARD_VERSION: 1996 12
METADATA_DATE: 1999 3 1
DATA_FILE_SIZE: 40123172
BYTE_COUNT: 5308
