FILENAME: O4811148.NWS.961720.tif
QUADRANGLE_NAME: TIBER DAM
QUADRANT: NW
WEST_LONGITUDE: -111 7 30.00000
EAST_LONGITUDE: -111 3 45.00000
NORTH_LATITUDE: 48 22 30.00000
SOUTH_LATITUDE: 48 18 45.00000
PRODUCTION_DATE: 1999 3 1
RASTER_ORDER: LEFT_RIGHT/TOP_BOTTOM
BAND_ORGANIZATION: SINGLE FILE
BAND_CONTENT: BLACK&WHITE
BAND_CONTENT: UNDEFINED
BAND_CONTENT: UNDEFINED
BITS_PER_PIXEL: 8
SAMPLES_AND_LINES: 5300 7558
HORIZONTAL_DATUM: NAD83
HORIZONTAL_COORDINATE_SYSTEM: UTM
COORDINATE_ZONE: 12
HORIZONTAL_UNITS: METERS
HORIZONTAL_RESOLUTION: 1.00000
SECONDARY_HORIZONTAL_DATUM: NAD27
XY_ORIGIN: 490371.00000 5358290.00000
SECONDARY_XY_ORIGIN: 490430.73600 5358072.73400
NATION: US
STATE: MT
NW_QUAD_CORNER_XY: 490743.33900 5357988.83200
NE_QUAD_CORNER_XY: 495371.66900 5357983.17100
SE_QUAD_CORNERY_XY: 495366.00700 5351036.13800
SW_QUAD_CORNER_XY: 490732.01500 5351041.80100
SECONDARY_NW_QUAD_XY: 490743.04500 5357769.87700
SECONDARY_NE_QUAD_XY: 495371.52200 5357764.21600
SECONDARY_SE_QUAD_XY: 495365.86000 5350817.19400
SECONDARY_SW_QUAD_XY: 490731.72100 5350822.85600
RMSE_XY: 2.30000
IMAGE_SOURCE: BLACK AND WHITE FILM
SOURCE_IMAGE_ID: NAPP 9169 126
SOURCE_IMAGE_DATE: 1997 7 25
SOURCE_DEM_DATE: 1962 0 0
AGENCY: WESTERN MAPPING CENTER (WMC)
PRODUCER: ROCKY MOUNTAIN MAPPING CENTER (RMMC)
PRODUCTION_SYSTEM: DV2.6.3 10/9OV2.4 5/95
COMPRESSION: UNDEFINED
STANDARD_VERSION: 1996 12
METADATA_DATE: 1999 3 1
DATA_FILE_SIZE: 40062700
BYTE_COUNT: 5300
