FILENAME: O4811150.SWS.958542.tif
QUADRANGLE_NAME: LETZ LAKE
QUADRANT: SW
WEST_LONGITUDE: -111 52 30.00000
EAST_LONGITUDE: -111 48 45.00000
NORTH_LATITUDE: 48 11 15.00000
SOUTH_LATITUDE: 48 7 30.00000
PRODUCTION_DATE: 1999 2 8
RASTER_ORDER: LEFT_RIGHT/TOP_BOTTOM
BAND_ORGANIZATION: SINGLE FILE
BAND_CONTENT: BLACK&WHITE
BAND_CONTENT: UNDEFINED
BAND_CONTENT: UNDEFINED
BITS_PER_PIXEL: 8
SAMPLES_AND_LINES: 5388 7604
HORIZONTAL_DATUM: NAD83
HORIZONTAL_COORDINATE_SYSTEM: UTM
COORDINATE_ZONE: 12
HORIZONTAL_UNITS: METERS
HORIZONTAL_RESOLUTION: 1.00000
SECONDARY_HORIZONTAL_DATUM: NAD27
XY_ORIGIN: 434523.00000 5337812.00000
SECONDARY_XY_ORIGIN: 434584.09400 5337595.25800
NATION: US
STATE: MT
NW_QUAD_CORNER_XY: 434966.07600 5337510.54800
NE_QUAD_CORNER_XY: 439611.32100 5337459.55800
SE_QUAD_CORNERY_XY: 439537.92900 5330512.82900
SW_QUAD_CORNER_XY: 434887.03800 5330563.83000
SECONDARY_NW_QUAD_XY: 434964.02100 5337291.63800
SECONDARY_NE_QUAD_XY: 439609.41300 5337240.64700
SECONDARY_SE_QUAD_XY: 439536.02100 5330293.93000
SECONDARY_SW_QUAD_XY: 434884.98400 5330344.93400
RMSE_XY: 1.50000
IMAGE_SOURCE: BLACK AND WHITE FILM
SOURCE_IMAGE_ID: NAPP 9178 040
SOURCE_IMAGE_DATE: 1997 9 4
SOURCE_DEM_DATE: 1965 0 0
AGENCY: WESTERN MAPPING CENTER (WMC)
PRODUCER: ROCKY MOUNTAIN MAPPING CENTER (RMMC)
PRODUCTION_SYSTEM: DV2.6.3 10/9OV2.4 5/95
COMPRESSION: UNDEFINED
STANDARD_VERSION: 1996 12
METADATA_DATE: 1999 2 9
DATA_FILE_SIZE: 40975740
BYTE_COUNT: 5388
