FILENAME: O4811157.SES.1078129.tif
QUADRANGLE_NAME: CONRAD SW
QUADRANT: SE
WEST_LONGITUDE: -111 56 15.00000
EAST_LONGITUDE: -111 52 30.00000
NORTH_LATITUDE: 48 3 45.00000
SOUTH_LATITUDE: 48 0 0.00000
PRODUCTION_DATE: 2000 5 3
RASTER_ORDER: LEFT_RIGHT/TOP_BOTTOM
BAND_ORGANIZATION: SINGLE FILE
BAND_CONTENT: BLACK&WHITE
BAND_CONTENT: UNDEFINED
BAND_CONTENT: UNDEFINED
BITS_PER_PIXEL: 8
SAMPLES_AND_LINES: 5408 7607
HORIZONTAL_DATUM: NAD83
HORIZONTAL_COORDINATE_SYSTEM: UTM
COORDINATE_ZONE: 12
HORIZONTAL_UNITS: METERS
HORIZONTAL_RESOLUTION: 1.00000
SECONDARY_HORIZONTAL_DATUM: NAD27
XY_ORIGIN: 429702.00000 5323972.00000
SECONDARY_XY_ORIGIN: 429763.03600 5323756.19600
NATION: US
NATION: "SCIENCE
STATE: MT
NW_QUAD_CORNER_XY: 430151.55500 5323671.98000
NE_QUAD_CORNER_XY: 434808.07800 5323617.18700
SE_QUAD_CORNERY_XY: 434729.19600 5316670.61800
SW_QUAD_CORNER_XY: 430067.03800 5316725.42300
SECONDARY_NW_QUAD_XY: 430149.35400 5323453.09800
SECONDARY_NE_QUAD_XY: 434806.02400 5323398.30300
SECONDARY_SE_QUAD_XY: 434727.14200 5316451.74900
SECONDARY_SW_QUAD_XY: 430064.83700 5316506.55600
RMSE_XY: 1.10000
IMAGE_SOURCE: BLACK AND WHITE FILM
SOURCE_IMAGE_ID: NAPP 9178 101
SOURCE_IMAGE_DATE: 1997 09 04
SOURCE_DEM_DATE: 1965 00 00
AGENCY: WESTERN MAPPING CENTER (WMC)
PRODUCER: UNDEFINED
PRODUCTION_SYSTEM: GIS/MAGIC
COMPRESSION: UNDEFINED
STANDARD_VERSION: 1996 12
METADATA_DATE: 2000 06 02
DATA_FILE_SIZE: 41144064
BYTE_COUNT: 5408
