FILENAME: O4811158.NWS.1078136.tif
QUADRANGLE_NAME: BRADY
QUADRANT: NW
WEST_LONGITUDE: -111 52 30.00000
EAST_LONGITUDE: -111 48 45.00000
NORTH_LATITUDE: 48 7 30.00000
SOUTH_LATITUDE: 48 3 45.00000
PRODUCTION_DATE: 2000 5 3
RASTER_ORDER: LEFT_RIGHT/TOP_BOTTOM
BAND_ORGANIZATION: SINGLE FILE
BAND_CONTENT: BLACK&WHITE
BAND_CONTENT: UNDEFINED
BAND_CONTENT: UNDEFINED
BITS_PER_PIXEL: 8
SAMPLES_AND_LINES: 5395 7604
HORIZONTAL_DATUM: NAD83
HORIZONTAL_COORDINATE_SYSTEM: UTM
COORDINATE_ZONE: 12
HORIZONTAL_UNITS: METERS
HORIZONTAL_RESOLUTION: 1.00000
SECONDARY_HORIZONTAL_DATUM: NAD27
XY_ORIGIN: 434444.00000 5330864.00000
SECONDARY_XY_ORIGIN: 434505.00500 5330647.74800
NATION: US
NATION: "SCIENCE
STATE: MT
NW_QUAD_CORNER_XY: 434887.03800 5330563.83000
NE_QUAD_CORNER_XY: 439537.92900 5330512.82800
SE_QUAD_CORNERY_XY: 439464.61000 5323566.17300
SW_QUAD_CORNER_XY: 434808.07800 5323617.18700
SECONDARY_NW_QUAD_XY: 434884.98400 5330344.93300
SECONDARY_NE_QUAD_XY: 439536.02100 5330293.93000
SECONDARY_SE_QUAD_XY: 439462.70200 5323347.28800
SECONDARY_SW_QUAD_XY: 434806.02400 5323398.30300
RMSE_XY: 1.10000
IMAGE_SOURCE: BLACK AND WHITE FILM
SOURCE_IMAGE_ID: NAPP 9178 038
SOURCE_IMAGE_DATE: 1997 09 04
SOURCE_IMAGE_ID: NAPP 9178 036
SOURCE_IMAGE_DATE: 1997 09 04
SOURCE_DEM_DATE: 1965 00 00
AGENCY: WESTERN MAPPING CENTER (WMC)
PRODUCER: UNDEFINED
PRODUCTION_SYSTEM: GIS/MAGIC
COMPRESSION: UNDEFINED
STANDARD_VERSION: 1996 12
METADATA_DATE: 2000 06 02
DATA_FILE_SIZE: 41028975
BYTE_COUNT: 5395
