FILENAME: O4811158.NES.1078135.tif
QUADRANGLE_NAME: BRADY
QUADRANT: NE
WEST_LONGITUDE: -111 48 45.00000
EAST_LONGITUDE: -111 45 0.00000
NORTH_LATITUDE: 48 7 30.00000
SOUTH_LATITUDE: 48 3 45.00000
PRODUCTION_DATE: 2000 5 3
RASTER_ORDER: LEFT_RIGHT/TOP_BOTTOM
BAND_ORGANIZATION: SINGLE FILE
BAND_CONTENT: BLACK&WHITE
BAND_CONTENT: UNDEFINED
BAND_CONTENT: UNDEFINED
BITS_PER_PIXEL: 8
SAMPLES_AND_LINES: 5390 7600
HORIZONTAL_DATUM: NAD83
HORIZONTAL_COORDINATE_SYSTEM: UTM
COORDINATE_ZONE: 12
HORIZONTAL_UNITS: METERS
HORIZONTAL_RESOLUTION: 1.00000
SECONDARY_HORIZONTAL_DATUM: NAD27
XY_ORIGIN: 439100.00000 5330813.00000
SECONDARY_XY_ORIGIN: 439160.88600 5330596.79700
NATION: US
NATION: "SCIENCE
STATE: MT
NW_QUAD_CORNER_XY: 439537.92900 5330512.82800
NE_QUAD_CORNER_XY: 444188.82800 5330465.60500
SE_QUAD_CORNERY_XY: 444121.14900 5323518.93900
SW_QUAD_CORNER_XY: 439464.61000 5323566.17300
SECONDARY_NW_QUAD_XY: 439536.02100 5330293.93000
SECONDARY_NE_QUAD_XY: 444187.06700 5330246.70500
SECONDARY_SE_QUAD_XY: 444119.38800 5323300.05300
SECONDARY_SW_QUAD_XY: 439462.70200 5323347.28800
RMSE_XY: 0.80000
IMAGE_SOURCE: BLACK AND WHITE FILM
SOURCE_IMAGE_ID: NAPP 9178 031
SOURCE_IMAGE_DATE: 1997 09 04
SOURCE_IMAGE_ID: NAPP 9178 032
SOURCE_IMAGE_DATE: 1997 09 04
SOURCE_IMAGE_ID: NAPP 9178 030
SOURCE_IMAGE_DATE: 1997 09 04
SOURCE_DEM_DATE: 1965 00 00
AGENCY: WESTERN MAPPING CENTER (WMC)
PRODUCER: UNDEFINED
PRODUCTION_SYSTEM: GIS/MAGIC
COMPRESSION: UNDEFINED
STANDARD_VERSION: 1996 12
METADATA_DATE: 2000 06 02
DATA_FILE_SIZE: 40969390
BYTE_COUNT: 5390
