FILENAME: O4811159.SWS.1078142.tif
QUADRANGLE_NAME: FOWLER COULEE SW
QUADRANT: SW
WEST_LONGITUDE: -111 45 0.00000
EAST_LONGITUDE: -111 41 15.00000
NORTH_LATITUDE: 48 3 45.00000
SOUTH_LATITUDE: 48 0 0.00000
PRODUCTION_DATE: 2000 5 3
RASTER_ORDER: LEFT_RIGHT/TOP_BOTTOM
BAND_ORGANIZATION: SINGLE FILE
BAND_CONTENT: BLACK&WHITE
BAND_CONTENT: UNDEFINED
BAND_CONTENT: UNDEFINED
BITS_PER_PIXEL: 8
SAMPLES_AND_LINES: 5389 7596
HORIZONTAL_DATUM: NAD83
HORIZONTAL_COORDINATE_SYSTEM: UTM
COORDINATE_ZONE: 12
HORIZONTAL_UNITS: METERS
HORIZONTAL_RESOLUTION: 1.00000
SECONDARY_HORIZONTAL_DATUM: NAD27
XY_ORIGIN: 443690.00000 5323819.00000
SECONDARY_XY_ORIGIN: 443750.67300 5323603.32000
NATION: US
NATION: "SCIENCE
STATE: MT
NW_QUAD_CORNER_XY: 444121.14900 5323518.93900
NE_QUAD_CORNER_XY: 448777.69500 5323475.48400
SE_QUAD_CORNERY_XY: 448715.71800 5316528.88300
SW_QUAD_CORNER_XY: 444053.53700 5316572.34800
SECONDARY_NW_QUAD_XY: 444119.38800 5323300.05300
SECONDARY_NE_QUAD_XY: 448776.08100 5323256.59600
SECONDARY_SE_QUAD_XY: 448714.10500 5316310.00900
SECONDARY_SW_QUAD_XY: 444051.77700 5316353.47600
RMSE_XY: 0.80000
IMAGE_SOURCE: BLACK AND WHITE FILM
SOURCE_IMAGE_ID: NAPP 9178 169
SOURCE_IMAGE_DATE: 1997 09 04
SOURCE_IMAGE_ID: NAPP 8373 117
SOURCE_IMAGE_DATE: 1995 08 09
SOURCE_DEM_DATE: 1965 00 00
AGENCY: WESTERN MAPPING CENTER (WMC)
PRODUCER: UNDEFINED
PRODUCTION_SYSTEM: GIS/MAGIC
COMPRESSION: UNDEFINED
STANDARD_VERSION: 1996 12
METADATA_DATE: 2000 06 02
DATA_FILE_SIZE: 40940233
BYTE_COUNT: 5389
