FILENAME: O4811159.NWS.1078140.tif
QUADRANGLE_NAME: FOWLER COULEE SW
QUADRANT: NW
WEST_LONGITUDE: -111 45 0.00000
EAST_LONGITUDE: -111 41 15.00000
NORTH_LATITUDE: 48 7 30.00000
SOUTH_LATITUDE: 48 3 45.00000
PRODUCTION_DATE: 2000 5 3
RASTER_ORDER: LEFT_RIGHT/TOP_BOTTOM
BAND_ORGANIZATION: SINGLE FILE
BAND_CONTENT: BLACK&WHITE
BAND_CONTENT: UNDEFINED
BAND_CONTENT: UNDEFINED
BITS_PER_PIXEL: 8
SAMPLES_AND_LINES: 5384 7596
HORIZONTAL_DATUM: NAD83
HORIZONTAL_COORDINATE_SYSTEM: UTM
COORDINATE_ZONE: 12
HORIZONTAL_UNITS: METERS
HORIZONTAL_RESOLUTION: 1.00000
SECONDARY_HORIZONTAL_DATUM: NAD27
XY_ORIGIN: 443757.00000 5330766.00000
SECONDARY_XY_ORIGIN: 443817.76800 5330549.85300
NATION: US
NATION: "SCIENCE
STATE: MT
NW_QUAD_CORNER_XY: 444188.82800 5330465.60500
NE_QUAD_CORNER_XY: 448839.73400 5330422.16000
SE_QUAD_CORNERY_XY: 448777.69500 5323475.48400
SW_QUAD_CORNER_XY: 444121.14900 5323518.93900
SECONDARY_NW_QUAD_XY: 444187.06700 5330246.70500
SECONDARY_NE_QUAD_XY: 448838.12000 5330203.25900
SECONDARY_SE_QUAD_XY: 448776.08100 5323256.59600
SECONDARY_SW_QUAD_XY: 444119.38800 5323300.05300
RMSE_XY: 0.90000
IMAGE_SOURCE: BLACK AND WHITE FILM
SOURCE_IMAGE_ID: NAPP 9178 167
SOURCE_IMAGE_DATE: 1997 09 04
SOURCE_IMAGE_ID: NAPP 9178 031
SOURCE_IMAGE_DATE: 1997 09 04
SOURCE_DEM_DATE: 1965 00 00
AGENCY: WESTERN MAPPING CENTER (WMC)
PRODUCER: UNDEFINED
PRODUCTION_SYSTEM: GIS/MAGIC
COMPRESSION: UNDEFINED
STANDARD_VERSION: 1996 12
METADATA_DATE: 2000 06 02
DATA_FILE_SIZE: 40902248
BYTE_COUNT: 5384
