FILENAME: O4811159.NES.1078139.tif
QUADRANGLE_NAME: FOWLER COULEE SW
QUADRANT: NE
WEST_LONGITUDE: -111 41 15.00000
EAST_LONGITUDE: -111 37 30.00000
NORTH_LATITUDE: 48 7 30.00000
SOUTH_LATITUDE: 48 3 45.00000
PRODUCTION_DATE: 2000 5 3
RASTER_ORDER: LEFT_RIGHT/TOP_BOTTOM
BAND_ORGANIZATION: SINGLE FILE
BAND_CONTENT: BLACK&WHITE
BAND_CONTENT: UNDEFINED
BAND_CONTENT: UNDEFINED
BITS_PER_PIXEL: 8
SAMPLES_AND_LINES: 5378 7593
HORIZONTAL_DATUM: NAD83
HORIZONTAL_COORDINATE_SYSTEM: UTM
COORDINATE_ZONE: 12
HORIZONTAL_UNITS: METERS
HORIZONTAL_RESOLUTION: 1.00000
SECONDARY_HORIZONTAL_DATUM: NAD27
XY_ORIGIN: 448414.00000 5330723.00000
SECONDARY_XY_ORIGIN: 448474.63500 5330506.83700
NATION: US
NATION: "SCIENCE
STATE: MT
NW_QUAD_CORNER_XY: 448839.73400 5330422.16000
NE_QUAD_CORNER_XY: 453490.64600 5330382.49300
SE_QUAD_CORNERY_XY: 453434.24800 5323435.80800
SW_QUAD_CORNER_XY: 448777.69500 5323475.48400
SECONDARY_NW_QUAD_XY: 448838.12000 5330203.25900
SECONDARY_NE_QUAD_XY: 453489.17900 5330163.59000
SECONDARY_SE_QUAD_XY: 453432.78100 5323216.91900
SECONDARY_SW_QUAD_XY: 448776.08100 5323256.59600
RMSE_XY: 0.90000
IMAGE_SOURCE: BLACK AND WHITE FILM
SOURCE_IMAGE_ID: NAPP 9176 141
SOURCE_IMAGE_DATE: 1997 08 30
SOURCE_IMAGE_ID: NAPP 9176 143
SOURCE_IMAGE_DATE: 1997 08 30
SOURCE_DEM_DATE: 1965 00 00
AGENCY: WESTERN MAPPING CENTER (WMC)
PRODUCER: UNDEFINED
PRODUCTION_SYSTEM: GIS/MAGIC
COMPRESSION: UNDEFINED
STANDARD_VERSION: 1996 12
METADATA_DATE: 2000 06 02
DATA_FILE_SIZE: 40840532
BYTE_COUNT: 5378
