FILENAME: O4811160.NES.1078151.tif
QUADRANGLE_NAME: FOWLER COULEE SE
QUADRANT: NE
WEST_LONGITUDE: -111 33 45.00000
EAST_LONGITUDE: -111 30 0.00000
NORTH_LATITUDE: 48 7 30.00000
SOUTH_LATITUDE: 48 3 45.00000
PRODUCTION_DATE: 2000 5 3
RASTER_ORDER: LEFT_RIGHT/TOP_BOTTOM
BAND_ORGANIZATION: SINGLE FILE
BAND_CONTENT: BLACK&WHITE
BAND_CONTENT: UNDEFINED
BAND_CONTENT: UNDEFINED
BITS_PER_PIXEL: 8
SAMPLES_AND_LINES: 5366 7585
HORIZONTAL_DATUM: NAD83
HORIZONTAL_COORDINATE_SYSTEM: UTM
COORDINATE_ZONE: 12
HORIZONTAL_UNITS: METERS
HORIZONTAL_RESOLUTION: 1.00000
SECONDARY_HORIZONTAL_DATUM: NAD27
XY_ORIGIN: 457728.00000 5330647.00000
SECONDARY_XY_ORIGIN: 457788.36800 5330430.80400
NATION: US
NATION: "SCIENCE
STATE: MT
NW_QUAD_CORNER_XY: 458141.56500 5330346.60400
NE_QUAD_CORNER_XY: 462792.48800 5330314.49300
SE_QUAD_CORNERY_XY: 462747.37000 5323367.79200
SW_QUAD_CORNER_XY: 458090.80700 5323399.91000
SECONDARY_NW_QUAD_XY: 458140.24400 5330127.70000
SECONDARY_NE_QUAD_XY: 462791.31400 5330095.58800
SECONDARY_SE_QUAD_XY: 462746.19700 5323148.90100
SECONDARY_SW_QUAD_XY: 458089.48600 5323181.02000
RMSE_XY: 0.80000
IMAGE_SOURCE: BLACK AND WHITE FILM
SOURCE_IMAGE_ID: NAPP 9176 073
SOURCE_IMAGE_DATE: 1997 08 30
SOURCE_IMAGE_ID: NAPP 9176 075
SOURCE_IMAGE_DATE: 1997 08 30
SOURCE_IMAGE_ID: NAPP 9176 072
SOURCE_IMAGE_DATE: 1997 08 30
SOURCE_DEM_DATE: 1965 00 00
AGENCY: WESTERN MAPPING CENTER (WMC)
PRODUCER: UNDEFINED
PRODUCTION_SYSTEM: GIS/MAGIC
COMPRESSION: UNDEFINED
STANDARD_VERSION: 1996 12
METADATA_DATE: 2000 06 02
DATA_FILE_SIZE: 40706476
BYTE_COUNT: 5366
