FILENAME: O4811162.SES.1078165.tif
QUADRANGLE_NAME: KNEES
QUADRANT: SE
WEST_LONGITUDE: -111 18 45.00000
EAST_LONGITUDE: -111 15 0.00000
NORTH_LATITUDE: 48 3 45.00000
SOUTH_LATITUDE: 48 0 0.00000
PRODUCTION_DATE: 2000 5 4
RASTER_ORDER: LEFT_RIGHT/TOP_BOTTOM
BAND_ORGANIZATION: SINGLE FILE
BAND_CONTENT: BLACK&WHITE
BAND_CONTENT: UNDEFINED
BAND_CONTENT: UNDEFINED
BITS_PER_PIXEL: 8
SAMPLES_AND_LINES: 5348 7571
HORIZONTAL_DATUM: NAD83
HORIZONTAL_COORDINATE_SYSTEM: UTM
COORDINATE_ZONE: 12
HORIZONTAL_UNITS: METERS
HORIZONTAL_RESOLUTION: 1.00000
SECONDARY_HORIZONTAL_DATUM: NAD27
XY_ORIGIN: 476327.00000 5323595.00000
SECONDARY_XY_ORIGIN: 476386.83400 5323379.28500
NATION: US
NATION: "SCIENCE
STATE: MT
NW_QUAD_CORNER_XY: 476717.08800 5323294.10900
NE_QUAD_CORNER_XY: 481373.66700 5323277.10600
SE_QUAD_CORNERY_XY: 481351.13000 5316330.45900
SW_QUAD_CORNER_XY: 476688.91700 5316347.46700
SECONDARY_NW_QUAD_XY: 476716.35400 5323075.21600
SECONDARY_NE_QUAD_XY: 481373.08000 5323058.21200
SECONDARY_SE_QUAD_XY: 481350.54300 5316111.58000
SECONDARY_SW_QUAD_XY: 476688.18400 5316128.58800
RMSE_XY: 1.00000
IMAGE_SOURCE: BLACK AND WHITE FILM
SOURCE_IMAGE_ID: NAPP 9175 063
SOURCE_IMAGE_DATE: 1997 08 30
SOURCE_DEM_DATE: 1969 00 00
AGENCY: WESTERN MAPPING CENTER (WMC)
PRODUCER: UNDEFINED
PRODUCTION_SYSTEM: GIS/MAGIC
COMPRESSION: UNDEFINED
STANDARD_VERSION: 1996 12
METADATA_DATE: 2000 06 02
DATA_FILE_SIZE: 40495056
BYTE_COUNT: 5348
