FILENAME: O4811162.NES.1078163.tif
QUADRANGLE_NAME: KNEES
QUADRANT: NE
WEST_LONGITUDE: -111 18 45.00000
EAST_LONGITUDE: -111 15 0.00000
NORTH_LATITUDE: 48 7 30.00000
SOUTH_LATITUDE: 48 3 45.00000
PRODUCTION_DATE: 2000 5 4
RASTER_ORDER: LEFT_RIGHT/TOP_BOTTOM
BAND_ORGANIZATION: SINGLE FILE
BAND_CONTENT: BLACK&WHITE
BAND_CONTENT: UNDEFINED
BAND_CONTENT: UNDEFINED
BITS_PER_PIXEL: 8
SAMPLES_AND_LINES: 5343 7570
HORIZONTAL_DATUM: NAD83
HORIZONTAL_COORDINATE_SYSTEM: UTM
COORDINATE_ZONE: 12
HORIZONTAL_UNITS: METERS
HORIZONTAL_RESOLUTION: 1.00000
SECONDARY_HORIZONTAL_DATUM: NAD27
XY_ORIGIN: 476355.00000 5330541.00000
SECONDARY_XY_ORIGIN: 476414.92300 5330324.86000
NATION: US
NATION: "SCIENCE
STATE: MT
NW_QUAD_CORNER_XY: 476745.28600 5330240.82800
NE_QUAD_CORNER_XY: 481396.22500 5330223.82800
SE_QUAD_CORNERY_XY: 481373.66700 5323277.10600
SW_QUAD_CORNER_XY: 476717.08800 5323294.10900
SECONDARY_NW_QUAD_XY: 476744.55200 5330021.92100
SECONDARY_NE_QUAD_XY: 481395.63800 5330004.92000
SECONDARY_SE_QUAD_XY: 481373.08000 5323058.21200
SECONDARY_SW_QUAD_XY: 476716.35400 5323075.21600
RMSE_XY: 1.20000
IMAGE_SOURCE: BLACK AND WHITE FILM
SOURCE_IMAGE_ID: NAPP 9175 061
SOURCE_IMAGE_DATE: 1997 08 30
SOURCE_IMAGE_ID: NAPP 9175 063
SOURCE_IMAGE_DATE: 1997 08 30
SOURCE_DEM_DATE: 1969 00 00
AGENCY: WESTERN MAPPING CENTER (WMC)
PRODUCER: UNDEFINED
PRODUCTION_SYSTEM: GIS/MAGIC
COMPRESSION: UNDEFINED
STANDARD_VERSION: 1996 12
METADATA_DATE: 2000 06 02
DATA_FILE_SIZE: 40451853
BYTE_COUNT: 5343
