FILENAME: O4811164.SWS.1078217.tif
QUADRANGLE_NAME: RUSSELL CHAPEL
QUADRANT: SW
WEST_LONGITUDE: -111 7 30.00000
EAST_LONGITUDE: -111 3 45.00000
NORTH_LATITUDE: 48 3 45.00000
SOUTH_LATITUDE: 48 0 0.00000
PRODUCTION_DATE: 2000 5 8
RASTER_ORDER: LEFT_RIGHT/TOP_BOTTOM
BAND_ORGANIZATION: SINGLE FILE
BAND_CONTENT: BLACK&WHITE
BAND_CONTENT: UNDEFINED
BAND_CONTENT: UNDEFINED
BITS_PER_PIXEL: 8
SAMPLES_AND_LINES: 5330 7559
HORIZONTAL_DATUM: NAD83
HORIZONTAL_COORDINATE_SYSTEM: UTM
COORDINATE_ZONE: 12
HORIZONTAL_UNITS: METERS
HORIZONTAL_RESOLUTION: 1.00000
SECONDARY_HORIZONTAL_DATUM: NAD27
XY_ORIGIN: 490315.00000 5323555.00000
SECONDARY_XY_ORIGIN: 490374.36900 5323339.30600
NATION: US
NATION: "SCIENCE
STATE: MT
NW_QUAD_CORNER_XY: 490686.83100 5323254.43400
NE_QUAD_CORNER_XY: 495343.41500 5323248.76700
SE_QUAD_CORNERY_XY: 495337.78100 5316302.11400
SW_QUAD_CORNER_XY: 490675.56300 5316307.78300
SECONDARY_NW_QUAD_XY: 490686.53700 5323035.54000
SECONDARY_NE_QUAD_XY: 495343.26800 5323029.87200
SECONDARY_SE_QUAD_XY: 495337.63400 5316083.23300
SECONDARY_SW_QUAD_XY: 490675.26900 5316088.90200
RMSE_XY: 0.70000
IMAGE_SOURCE: BLACK AND WHITE FILM
SOURCE_IMAGE_ID: NAPP 9169 136
SOURCE_IMAGE_DATE: 1997 07 25
SOURCE_IMAGE_ID: NAPP 8372 081
SOURCE_IMAGE_DATE: 1995 07 08
SOURCE_IMAGE_ID: NAPP 9169 071
SOURCE_IMAGE_DATE: 1997 07 25
SOURCE_DEM_DATE: 1992 00 00
AGENCY: WESTERN MAPPING CENTER (WMC)
PRODUCER: UNDEFINED
PRODUCTION_SYSTEM: GIS/MAGIC
COMPRESSION: UNDEFINED
STANDARD_VERSION: 1996 12
METADATA_DATE: 2000 06 02
DATA_FILE_SIZE: 40294800
BYTE_COUNT: 5330
