FILENAME: O4811164.NWS.1078215.tif
QUADRANGLE_NAME: RUSSELL CHAPEL
QUADRANT: NW
WEST_LONGITUDE: -111 7 30.00000
EAST_LONGITUDE: -111 3 45.00000
NORTH_LATITUDE: 48 7 30.00000
SOUTH_LATITUDE: 48 3 45.00000
PRODUCTION_DATE: 2000 5 8
RASTER_ORDER: LEFT_RIGHT/TOP_BOTTOM
BAND_ORGANIZATION: SINGLE FILE
BAND_CONTENT: BLACK&WHITE
BAND_CONTENT: UNDEFINED
BAND_CONTENT: UNDEFINED
BITS_PER_PIXEL: 8
SAMPLES_AND_LINES: 5325 7559
HORIZONTAL_DATUM: NAD83
HORIZONTAL_COORDINATE_SYSTEM: UTM
COORDINATE_ZONE: 12
HORIZONTAL_UNITS: METERS
HORIZONTAL_RESOLUTION: 1.00000
SECONDARY_HORIZONTAL_DATUM: NAD27
XY_ORIGIN: 490326.00000 5330502.00000
SECONDARY_XY_ORIGIN: 490385.47700 5330285.92100
NATION: US
NATION: "SCIENCE
STATE: MT
NW_QUAD_CORNER_XY: 490698.11000 5330201.16200
NE_QUAD_CORNER_XY: 495349.05500 5330195.49600
SE_QUAD_CORNERY_XY: 495343.41500 5323248.76700
SW_QUAD_CORNER_XY: 490686.83100 5323254.43400
SECONDARY_NW_QUAD_XY: 490697.81700 5329982.25400
SECONDARY_NE_QUAD_XY: 495348.90800 5329976.58700
SECONDARY_SE_QUAD_XY: 495343.26800 5323029.87200
SECONDARY_SW_QUAD_XY: 490686.53700 5323035.54000
RMSE_XY: 0.90000
IMAGE_SOURCE: BLACK AND WHITE FILM
SOURCE_IMAGE_ID: NAPP 9169 134
SOURCE_IMAGE_DATE: 1997 07 25
SOURCE_IMAGE_ID: NAPP 9169 136
SOURCE_IMAGE_DATE: 1997 07 25
SOURCE_IMAGE_ID: NAPP 9169 133
SOURCE_IMAGE_DATE: 1997 07 25
SOURCE_IMAGE_ID: NAPP 9169 075
SOURCE_IMAGE_DATE: 1997 07 25
SOURCE_DEM_DATE: 1992 00 00
AGENCY: WESTERN MAPPING CENTER (WMC)
PRODUCER: UNDEFINED
PRODUCTION_SYSTEM: GIS/MAGIC
COMPRESSION: UNDEFINED
STANDARD_VERSION: 1996 12
METADATA_DATE: 2000 06 02
DATA_FILE_SIZE: 40257000
BYTE_COUNT: 5325
