FILENAME: O4811164.NES.1078214.tif
QUADRANGLE_NAME: RUSSELL CHAPEL
QUADRANT: NE
WEST_LONGITUDE: -111 3 45.00000
EAST_LONGITUDE: -111 0 0.00000
NORTH_LATITUDE: 48 7 30.00000
SOUTH_LATITUDE: 48 3 45.00000
PRODUCTION_DATE: 2000 5 8
RASTER_ORDER: LEFT_RIGHT/TOP_BOTTOM
BAND_ORGANIZATION: SINGLE FILE
BAND_CONTENT: BLACK&WHITE
BAND_CONTENT: UNDEFINED
BAND_CONTENT: UNDEFINED
BITS_PER_PIXEL: 8
SAMPLES_AND_LINES: 5318 7555
HORIZONTAL_DATUM: NAD83
HORIZONTAL_COORDINATE_SYSTEM: UTM
COORDINATE_ZONE: 12
HORIZONTAL_UNITS: METERS
HORIZONTAL_RESOLUTION: 1.00000
SECONDARY_HORIZONTAL_DATUM: NAD27
XY_ORIGIN: 494983.00000 5330496.00000
SECONDARY_XY_ORIGIN: 495042.29900 5330279.93200
NATION: US
NATION: "SCIENCE
STATE: MT
NW_QUAD_CORNER_XY: 495349.05500 5330195.49600
NE_QUAD_CORNER_XY: 500000.00000 5330193.60700
SE_QUAD_CORNERY_XY: 500000.00000 5323246.87700
SW_QUAD_CORNER_XY: 495343.41500 5323248.76700
SECONDARY_NW_QUAD_XY: 495348.90800 5329976.58700
SECONDARY_NE_QUAD_XY: 500000.00000 5329974.69800
SECONDARY_SE_QUAD_XY: 500000.00000 5323027.98200
SECONDARY_SW_QUAD_XY: 495343.26800 5323029.87200
RMSE_XY: 0.60000
IMAGE_SOURCE: BLACK AND WHITE FILM
SOURCE_IMAGE_ID: NAPP 9169 073
SOURCE_IMAGE_DATE: 1997 07 25
SOURCE_DEM_DATE: 1992 00 00
AGENCY: WESTERN MAPPING CENTER (WMC)
PRODUCER: UNDEFINED
PRODUCTION_SYSTEM: GIS/MAGIC
COMPRESSION: UNDEFINED
STANDARD_VERSION: 1996 12
METADATA_DATE: 2000 06 02
DATA_FILE_SIZE: 40182808
BYTE_COUNT: 5318
