FILENAME: O4811001.NWS.1115492.tif
QUADRANGLE_NAME: LAIRD SCHOOL
QUADRANT: NW
WEST_LONGITUDE: -111 0 0.00000
EAST_LONGITUDE: -110 56 15.00000
NORTH_LATITUDE: 49 0 0.00000
SOUTH_LATITUDE: 48 56 15.00000
PRODUCTION_DATE: 2000 11 1
RASTER_ORDER: LEFT_RIGHT/TOP_BOTTOM
BAND_ORGANIZATION: SINGLE FILE
BAND_CONTENT: BLACK&WHITE
BAND_CONTENT: UNDEFINED
BAND_CONTENT: UNDEFINED
BITS_PER_PIXEL: 8
SAMPLES_AND_LINES: 5239 7554
HORIZONTAL_DATUM: NAD83
HORIZONTAL_COORDINATE_SYSTEM: UTM
COORDINATE_ZONE: 12
HORIZONTAL_UNITS: METERS
HORIZONTAL_RESOLUTION: 1.00000
SECONDARY_HORIZONTAL_DATUM: NAD27
XY_ORIGIN: 499640.00000 5427759.00000
SECONDARY_XY_ORIGIN: 499698.05900 5427538.71400
NATION: US
NATION: CA
NATION: "SCIENCE
STATE: MT
NW_QUAD_CORNER_XY: 500000.00000 5427455.78100
NE_QUAD_CORNER_XY: 504571.40800 5427457.66200
SE_QUAD_CORNERY_XY: 504577.12500 5420509.87200
SW_QUAD_CORNER_XY: 500000.00000 5420507.99000
SECONDARY_NW_QUAD_XY: 500000.00000 5427236.77000
SECONDARY_NE_QUAD_XY: 504571.55400 5427238.65200
SECONDARY_SE_QUAD_XY: 504577.27200 5420290.86400
SECONDARY_SW_QUAD_XY: 500000.00000 5420288.98200
RMSE_XY: 0.90000
IMAGE_SOURCE: BLACK AND WHITE FILM
SOURCE_IMAGE_ID: NAPP 9169 042
SOURCE_IMAGE_DATE: 1997 07 25
SOURCE_DEM_DATE: 1962 00 00
AGENCY: WESTERN MAPPING CENTER (WMC)
PRODUCER: UNDEFINED
PRODUCTION_SYSTEM: GIS/MAGIC
COMPRESSION: UNDEFINED
STANDARD_VERSION: 1996 12
METADATA_DATE: 2000 11 29
DATA_FILE_SIZE: 39580645
BYTE_COUNT: 5239
